BEGIN:VCALENDAR
VERSION:2.0
PRODID:-//ChamberMaster//Event Calendar 2.0//EN
METHOD:PUBLISH
X-PUBLISHED-TTL:P3D
REFRESH-INTERVAL:P3D
CALSCALE:GREGORIAN
BEGIN:VEVENT
DTSTART:20100706T220000Z
DTEND:20100707T000000Z
X-MICROSOFT-CDO-ALLDAYEVENT:FALSE
SUMMARY:Board of Director's Meeting
DESCRIPTION:
X-ALT-DESC;FMTTYPE=text/html:
LOCATION:First National Bank on the Plaza4 pm - 6 pm
UID:e.379.106
SEQUENCE:3
DTSTAMP:20260422T054805Z
URL:http://santafehispanicchamber.sampleorg.com/events/details/board-of-director-s-meeting-07-06-2010-106
END:VEVENT

END:VCALENDAR
