BEGIN:VCALENDAR
VERSION:2.0
PRODID:-//ChamberMaster//Event Calendar 2.0//EN
METHOD:PUBLISH
X-PUBLISHED-TTL:P3D
REFRESH-INTERVAL:P3D
CALSCALE:GREGORIAN
BEGIN:VEVENT
DTSTART:20101028T000000Z
DTEND:20101028T000000Z
X-MICROSOFT-CDO-ALLDAYEVENT:FALSE
SUMMARY:Business Watch Meeting
DESCRIPTION:First City-wide Business Watch Meeting presented by the Santa Fe Police Department
X-ALT-DESC;FMTTYPE=text/html:First City-wide Business Watch Meeting presented by the Santa Fe Police Department
LOCATION:Food Court\, Santa Fe Outlet Mall
UID:e.379.114
SEQUENCE:3
DTSTAMP:20260422T012457Z
URL:http://santafehispanicchamber.sampleorg.com/events/details/business-watch-meeting-10-27-2010-114
END:VEVENT

END:VCALENDAR
