BEGIN:VCALENDAR
VERSION:2.0
PRODID:-//ChamberMaster//Event Calendar 2.0//EN
METHOD:PUBLISH
X-PUBLISHED-TTL:P3D
REFRESH-INTERVAL:P3D
CALSCALE:GREGORIAN
BEGIN:VEVENT
DTSTART:20111210T010000Z
DTEND:20111210T050000Z
X-MICROSOFT-CDO-ALLDAYEVENT:FALSE
SUMMARY:CHRISTMAS PARTY 2011!
DESCRIPTION:You're Invited to GATHER WITH US AND CELEBRATE THE HOLIDAYS!\n	\n		 \n	\n		EVENT:  SFHCC Annual Christmas Party ! \n	\n		DATE:     FRIDAY\,  DECEMBER 9\, 2011\n	\n		TIME:      6-10PM\n	\n		LOCATION:  EL CAMPANARIO RESTAURANT\, 3136 CERRILLOS ROAD\, SANTA FE\, NM
X-ALT-DESC;FMTTYPE=text/html:<div>\n	<div align="center" style="margin: 0in 0in 10pt">\n		&nbsp\;</div>\n	<div align="center" style="margin: 0in 0in 10pt">\n		<strong><u><span style="line-height: 115%\; color: #1f497d\; font-size: 12pt">You&rsquo\;re Invited to GATHER&nbsp\;WITH US AND CELEBRATE THE HOLIDAYS!</span></u></strong></div>\n	<div align="center" style="line-height: normal\; margin: 0in 0in 0pt">\n		<strong><font size="3">&nbsp\;</font></strong></div>\n	<div style="margin: 0in 0in 10pt">\n		<strong><span style="color: #c0504d"><font color="#993300">EVENT:</font></span></strong>&nbsp\;&nbsp\;<strong><u><span style="line-height: 115%\; color: #237b0b\; font-size: 12pt">SFHCC Annual Christmas Party ! </span></u></strong></div>\n	<div style="margin: 0in 0in 10pt">\n		<strong><span style="color: #c0504d"><font color="#993300">DATE:</font></span></strong><span>&nbsp\;&nbsp\;&nbsp\;&nbsp\;&nbsp\;<span style="font-size: 16px"><strong>FRIDAY</strong></span>\, <strong><span style="color: red"><font size="3">&nbsp\;DECEMBER 9\, 2011</font></span></strong></span></div>\n	<div style="margin: 0in 0in 10pt">\n		<strong><span style="color: #c0504d"><font color="#993300">TIME:</font></span></strong>&nbsp\;<span>&nbsp\;&nbsp\;&nbsp\;&nbsp\;&nbsp\;<strong><font color="#237b0b">6-10PM</font></strong></span></div>\n	<div style="margin: 0in 0in 0pt">\n		<strong><span style="color: #c0504d"><font color="#993300">LOCATION:</font></span></strong>&nbsp\;&nbsp\;<strong><font color="#ff0000">EL CAMPANARIO RESTAURANT\, 3136 CERRILLOS ROAD\, SANTA FE\, NM</font></strong></div>\n</div>\n
LOCATION:El Campanario Restaurant 3136 Cerrillos Road Santa Fe\, NM 87507 (505) 474-4300 Fax: (505) 473-1420
UID:e.379.140
SEQUENCE:3
DTSTAMP:20260421T011928Z
URL:http://santafehispanicchamber.sampleorg.com/events/details/christmas-party-2011-12-09-2011-140
END:VEVENT

END:VCALENDAR
