BEGIN:VCALENDAR
VERSION:2.0
PRODID:-//ChamberMaster//Event Calendar 2.0//EN
METHOD:PUBLISH
X-PUBLISHED-TTL:P3D
REFRESH-INTERVAL:P3D
CALSCALE:GREGORIAN
BEGIN:VEVENT
DTSTART:20120504T233000Z
DTEND:20120505T020000Z
X-MICROSOFT-CDO-ALLDAYEVENT:FALSE
SUMMARY:Cinco de Mayo Mixer
DESCRIPTION:Please join us for "Cinco de Mayo" celebration and mixer! \n\n	\n\n	Enjoy music by the DeVargas MIDDLE SCHOOL MARIACHI GROUP and\n\n	dancing by Santa Fe's LUNARES FLAMENCAS
X-ALT-DESC;FMTTYPE=text/html:<p style="margin-top: 0px\; margin-bottom: 0px\; color: rgb(0\,128\,0)\; font-size: 24pt">\n	<span><strong><span>Please join us for &quot\;</span><span>Cinco</span><span> de</span> <span>M</span><span>ayo</span><span>&quot\; celebration and mixer!&nbsp\;</span></strong></span></p>\n<p style="margin-top: 0px\; margin-bottom: 0px\; color: rgb(0\,128\,0)\; font-size: 12pt">\n	<br />\n	<strong><span style="font-size: 24px"><span style="color: #000080">Enjoy music by the DeVargas MIDDLE SCHOOL MARIACHI GROUP and<br />\n	dancing by&nbsp\;Santa Fe&#39\;s LUNARES&nbsp\;FLAMENCAS</span></span></strong></p>\n<br />\n<span _fck_bookmark="1" style="display: none">&nbsp\;</span>
LOCATION:TINY'S RESTAURANT 1015 Pen Road PEN ROAD SHOPPING CENTER CORNER OF ST. FRANCIS DRIVE AND CERRILLOS ROAD IN SANTA FE
UID:e.379.144
SEQUENCE:3
DTSTAMP:20260420T175308Z
URL:http://santafehispanicchamber.sampleorg.com/events/details/cinco-de-mayo-mixer-05-04-2012-144
END:VEVENT

END:VCALENDAR
