BEGIN:VCALENDAR
VERSION:2.0
PRODID:-//ChamberMaster//Event Calendar 2.0//EN
METHOD:PUBLISH
X-PUBLISHED-TTL:P3D
REFRESH-INTERVAL:P3D
CALSCALE:GREGORIAN
BEGIN:VEVENT
DTSTART:20110505T233000Z
DTEND:20110506T020000Z
X-MICROSOFT-CDO-ALLDAYEVENT:FALSE
SUMMARY:Cinco de Mayo Mixer
DESCRIPTION:Please join us for "Cinco de Mayo" celebration and mixer! \n\n	\n\n	Enjoy music by the ORTIZ MIDDLE SCHOOL MARACHI GROUP and\n\n	"Savor Band" playing Cuban Street Music
X-ALT-DESC;FMTTYPE=text/html:<p style="margin-top: 0px\; margin-bottom: 0px\; color: rgb(0\,128\,0)\; font-size: 24pt">\n	<span><strong><span>Please join us for &quot\;</span><span>Cinco</span><span> de</span> <span>M</span><span>ayo</span><span>&quot\; celebration and mixer!&nbsp\;</span></strong></span></p>\n<p style="margin-top: 0px\; margin-bottom: 0px\; color: rgb(0\,128\,0)\; font-size: 12pt">\n	<br />\n	<strong><span style="font-size: 24px"><span style="color: #000080">Enjoy music by the ORTIZ MIDDLE SCHOOL MARACHI GROUP and<br />\n	&quot\;Savor Band&quot\; playing Cuban Street Music</span></span></strong></p>\n<br />\n<span _fck_bookmark="1" style="display: none">&nbsp\;</span>
LOCATION:TINY'S RESTAURANT 1015 Pen Road PEN ROAD SHOPPING CENTER CORNER OF ST. FRANCIS DRIVE AND CERRILLOS ROAD IN SANTA FE
UID:e.379.125
SEQUENCE:3
DTSTAMP:20260421T113648Z
URL:http://santafehispanicchamber.sampleorg.com/events/details/cinco-de-mayo-mixer-05-05-2011-125
END:VEVENT

END:VCALENDAR
