BEGIN:VCALENDAR
VERSION:2.0
PRODID:-//ChamberMaster//Event Calendar 2.0//EN
METHOD:PUBLISH
X-PUBLISHED-TTL:P3D
REFRESH-INTERVAL:P3D
CALSCALE:GREGORIAN
BEGIN:VEVENT
DTSTART:20130503T233000Z
DTEND:20130504T020000Z
X-MICROSOFT-CDO-ALLDAYEVENT:FALSE
SUMMARY:Cinco de Mayo Mixer 2013
DESCRIPTION:Please join us for "Cinco de Mayo" celebration and mixer!
X-ALT-DESC;FMTTYPE=text/html:<p style="margin-top: 0px\; margin-bottom: 0px\; color: rgb(0\,128\,0)\; font-size: 24pt">\n	<span><strong><span>Please join us for &quot\;</span><span>Cinco</span><span> de</span> <span>M</span><span>ayo</span><span>&quot\; celebration and mixer!&nbsp\;</span></strong></span></p>\n<p style="margin-top: 0px\; margin-bottom: 0px\; color: rgb(0\,128\,0)\; font-size: 12pt">\n	&nbsp\;</p>\n<span _fck_bookmark="1" style="display: none">&nbsp\;</span>
LOCATION:TINY'S RESTAURANT 1015 Pen Road PEN ROAD SHOPPING CENTER CORNER OF ST. FRANCIS DRIVE AND CERRILLOS ROAD IN SANTA FE
UID:e.379.157
SEQUENCE:3
DTSTAMP:20260419T210439Z
URL:http://santafehispanicchamber.sampleorg.com/events/details/cinco-de-mayo-mixer-2013-05-03-2013-157
END:VEVENT

END:VCALENDAR
