BEGIN:VCALENDAR
VERSION:2.0
PRODID:-//ChamberMaster//Event Calendar 2.0//EN
METHOD:PUBLISH
X-PUBLISHED-TTL:P3D
REFRESH-INTERVAL:P3D
CALSCALE:GREGORIAN
BEGIN:VEVENT
DTSTART:20130222T003000Z
DTEND:20130222T023000Z
X-MICROSOFT-CDO-ALLDAYEVENT:FALSE
SUMMARY:Come soar with Angels!!
DESCRIPTION:Please join Kitchen Angels as we begin another year of feeding Santa Fe's home-bound folks. Take a tour of our facility and experience the love and compassion our volunteers put into each meal we deliver. Learn how our work keeps people out of the hospital and nursing homes\, and helps them live with dignity in the comfort and safety of their own homes.
X-ALT-DESC;FMTTYPE=text/html:<div>\n	<table cellpadding="0" cellspacing="0" hspace="0" vspace="0" width="567">\n		<tbody>\n			<tr>\n				<td align="left" style="padding-top:0in\;padding-right:0in\;padding-bottom:0in\;padding-left:0in\;vertical-align:top\;">\n					<span style="color:#bd2225\;"><span style="font-size:18.0pt\;">Please join Kitchen Angels as we begin another year of feeding Santa Fe&#39\;s home-bound folks. Take a tour of our facility and experience the love and compassion our volunteers put into each meal we deliver. Learn how our work keeps people out of the hospital and nursing homes\, and helps them live with dignity in the comfort and safety of their own homes.&nbsp\;</span></span></td>\n			</tr>\n		</tbody>\n	</table>\n</div>\n
LOCATION:1222 Siler Road Santa Fe\, NM 87507
UID:e.379.153
SEQUENCE:3
DTSTAMP:20260420T031259Z
URL:http://santafehispanicchamber.sampleorg.com/events/details/come-soar-with-angels-02-21-2013-153
END:VEVENT

END:VCALENDAR
