BEGIN:VCALENDAR
VERSION:2.0
PRODID:-//ChamberMaster//Event Calendar 2.0//EN
METHOD:PUBLISH
X-PUBLISHED-TTL:P3D
REFRESH-INTERVAL:P3D
CALSCALE:GREGORIAN
BEGIN:VEVENT
DTSTART:20101018T143000Z
DTEND:20101018T181500Z
X-MICROSOFT-CDO-ALLDAYEVENT:FALSE
SUMMARY:El Hilo de la Memoria: Memories\, Language and Stories
DESCRIPTION:The City of Santa Fe and the New Mexico History Museum are hosting a series of events with Unión Latina and Fundación Consejo España -Estados Unidos in conjunction with a special exhibit of Spanish documents.  These events continue the commemoration of Santa Fe's 400th Anniversary.   \n\n\n\nOver the course of two days\, join international historians and experts at stimulating conversations where participants will discuss the forces that shape our history and culture including language\, stories\, migration and international affairs.
X-ALT-DESC;FMTTYPE=text/html:The City of Santa Fe and the New Mexico History Museum are hosting a series of events with Unión Latina and Fundación Consejo España -Estados Unidos in conjunction with a special exhibit of Spanish documents.  These events continue the commemoration of Santa Fe's 400th Anniversary.   \n<br>\n<br>Over the course of two days\, join international historians and experts at stimulating conversations where participants will discuss the forces that shape our history and culture including language\, stories\, migration and international affairs.
LOCATION:New Mexico History Museum\, 113 Lincoln Avenue\, Santa Fe\, NM
UID:e.379.112
SEQUENCE:3
DTSTAMP:20260422T012457Z
URL:http://santafehispanicchamber.sampleorg.com/events/details/el-hilo-de-la-memoria-memories-language-and-stories-10-18-2010-112
END:VEVENT

END:VCALENDAR
