BEGIN:VCALENDAR
VERSION:2.0
PRODID:-//ChamberMaster//Event Calendar 2.0//EN
METHOD:PUBLISH
X-PUBLISHED-TTL:P3D
REFRESH-INTERVAL:P3D
CALSCALE:GREGORIAN
BEGIN:VEVENT
DTSTART:20101019T143000Z
DTEND:20101019T223000Z
X-MICROSOFT-CDO-ALLDAYEVENT:FALSE
SUMMARY:El Hilo de la Memoria: Memories\, Language and Stories
DESCRIPTION:Part of the two day event starting Monday\, October 18\, 2010
X-ALT-DESC;FMTTYPE=text/html:Part of the two day event starting Monday\, October 18\, 2010
LOCATION:New Mexico History Museum\, 113 Lincoln Avenue\, Santa Fe\, NM
UID:e.379.113
SEQUENCE:3
DTSTAMP:20260422T012457Z
URL:http://santafehispanicchamber.sampleorg.com/events/details/el-hilo-de-la-memoria-memories-language-and-stories-10-19-2010-113
END:VEVENT

END:VCALENDAR
