BEGIN:VCALENDAR
VERSION:2.0
PRODID:-//ChamberMaster//Event Calendar 2.0//EN
METHOD:PUBLISH
X-PUBLISHED-TTL:P3D
REFRESH-INTERVAL:P3D
CALSCALE:GREGORIAN
BEGIN:VEVENT
DTSTART:20090804T233000Z
DTEND:20090805T020000Z
X-MICROSOFT-CDO-ALLDAYEVENT:FALSE
SUMMARY:Employer Health Coverage Seminar
DESCRIPTION:FREE...Employer Health Coverage Seminar\, August 4\, 2009\, 5:30-8:00pm\, NoNMC Cafeteria\, Espanola\, NMRVSP or Call Robin Hunn at 505-250-3105
X-ALT-DESC;FMTTYPE=text/html:<h3>FREE...Employer Health Coverage Seminar\, August 4\, 2009\, 5:30-8:00pm\, NoNMC Cafeteria\, Espanola\, NM</h3><h3>RVSP or Call Robin Hunn at 505-250-3105</h3>
LOCATION:
UID:e.379.78
SEQUENCE:3
DTSTAMP:20260422T235414Z
URL:http://santafehispanicchamber.sampleorg.com/events/details/employer-health-coverage-seminar-08-04-2009-78
END:VEVENT

END:VCALENDAR
