BEGIN:VCALENDAR
VERSION:2.0
PRODID:-//ChamberMaster//Event Calendar 2.0//EN
METHOD:PUBLISH
X-PUBLISHED-TTL:P3D
REFRESH-INTERVAL:P3D
CALSCALE:GREGORIAN
BEGIN:VEVENT
DTSTART:20090324T200000Z
DTEND:20090324T230000Z
X-MICROSOFT-CDO-ALLDAYEVENT:FALSE
SUMMARY:EMPLOYER HEALTH COVERAGE SYMPOSIUM
DESCRIPTION:Small Business Voices for Health Care   Small employers in New Mexico coming together for health care coverage and reform  As part of Cover The Uninsured Week\, the Santa Fe Hispanic Chamber of Commerce is sponsoring an Employers' Health Coverage Symposium to look at options for health insurance coverage for small businesses. Please attend this important meeting to learn about affordable options for health insurance coverage. Also learn about what is happening with health care reform at the state and national levels. New Mexico's health plans will also have booths at this meeting to provide one-on-one information for your business.  Cover the Uninsured Week New Mexico is sponsored by: AARP New Mexico\, Blue Cross/Blue Shield of New Mexico\, Health Action New Mexico\, Lovelace Health System\, Molina Healthcare\, New Mexico Hospital Association\, Presbyterian Healthcare Services\, and Small Business Voices for Health Care  Over 405\,000 New Mexicans Don't Have Health InsuranceWorking together we can solve this problem
X-ALT-DESC;FMTTYPE=text/html:<div><font color="#333333"><span style="font-size: 14pt"><div style="margin: 0in 0in 0pt\; line-height: normal">&nbsp\;&nbsp\;</div><div style="margin: 0in 0in 0pt\; line-height: normal"><strong><span style="font-size: 14pt\; color: teal"><font face="Times New Roman" size="5">Small Business </font></span></strong></div><div style="margin: 0in 0in 0pt\; line-height: normal"><font face="Times New Roman"><strong><span style="font-size: 14pt\; color: teal"><font size="5">Voices</font> </span></strong><strong><span style="color: #ff6600">for Health Care</span></strong></font><strong><span style="font-size: 14pt\; color: teal">&nbsp\;&nbsp\; </span></strong></div><div style="margin: 0in 0in 0pt\; line-height: normal"><strong><em><span style="font-size: 9pt\; color: #ff6600"><font size="2">Small employers in New Mexico coming together for health care coverage and reform</font></span></em></strong></div><div style="margin: 0in 0in 0pt\; line-height: normal">&nbsp\;</div></span></font></div><div>&nbsp\;</div><div><font color="#333333"><font size="4"><span style="font-size: 14pt">As part of </span><strong><em><span style="font-size: 14pt\; color: #333333">Cover The <font color="#cc0000">Uninsured</font> Week</span></em></strong><span style="font-size: 14pt">\, the Santa Fe Hispanic Chamber of Commerce is sponsoring an </span><strong><span style="font-size: 14pt\; color: #333333">Employers&rsquo\; Health Coverage Symposium</span></strong><span style="font-size: 14pt"> to look at options for health insurance coverage for small businesses.</span></font></font></div><div>&nbsp\;</div><div><span style="font-size: 14pt"><font color="#333333" size="4">Please attend this important meeting to learn about affordable options for health insurance coverage.&nbsp\;Also learn about what is happening with health care reform at the state and national levels.&nbsp\;New Mexico&rsquo\;s health plans will also have booths at this meeting to provide one-on-one information for your business.</font></span></div><div>&nbsp\;</div><div>&nbsp\;</div><div><span style="font-size: 14pt"><font color="#333333" size="4"><div style="margin: 0in 0in 0pt" align="center"><font size="1"><strong><em><span style="font-size: 11pt"><font color="#ff6600" size="2">Cover the Uninsured Week New Mexico</font></span></em></strong><span style="font-size: 11pt"> <font size="1">is sponsored by: AARP New Mexico\, Blue Cross/Blue Shield of New Mexico\, Health Action New Mexico\, Lovelace Health System\, Molina Healthcare\, New Mexico Hospital Association\, Presbyterian Healthcare Services\, and Small Business Voices for Health Care</font></span></font></div><div style="margin: 0in 0in 0pt" align="center"><strong><font size="1">&nbsp\;</font></strong></div><div style="margin: 0in 0in 0pt" align="center">&nbsp\;</div><div style="margin: 0in 0in 0pt" align="center"><strong><span style="font-size: 16pt"><font color="#000000" size="2">Over 405\,000 New Mexicans Don&rsquo\;t Have Health Insurance</font></span></strong></div><div style="margin: 0in 0in 0pt" align="center"><strong><span style="font-size: 16pt"><font color="#000000" size="2">Working together we can solve this problem</font></span></strong></div></font></span></div>
LOCATION:3347 Cerrillos Road
UID:e.379.21
SEQUENCE:3
DTSTAMP:20260423T071910Z
URL:http://santafehispanicchamber.sampleorg.com/events/details/employer-health-coverage-symposium-03-24-2009-21
END:VEVENT

END:VCALENDAR
