BEGIN:VCALENDAR
VERSION:2.0
PRODID:-//ChamberMaster//Event Calendar 2.0//EN
METHOD:PUBLISH
X-PUBLISHED-TTL:P3D
REFRESH-INTERVAL:P3D
CALSCALE:GREGORIAN
BEGIN:VEVENT
DTSTART;VALUE=DATE:20110301
DTEND;VALUE=DATE:20110401
TRANSP:TRANSPARENT
X-MICROSOFT-CDO-ALLDAYEVENT:TRUE
SUMMARY:Event at Small Business Development Center
DESCRIPTION:/font  /div  div   /div  div  font size="2"  strong March 3rd ? Basic Bookkeeping /strong  /font  /div  div  font size="2"  strong  br /  /strong If you have no\, or very limited\, understanding of bookkeeping this is an excellent introduction. In this workshop you will learn the key bookkeeping concepts and terminology\, the 2 principal financial statements and how they are related\, a simple single entry bookkeeping method and basic bookkeeping rules and processes. Please bring brown bag lunch. Instructor is Ida Carrillo   See Center website for time and location.\n\n\n\n /font  /div  div   /div  div  font size="2"  strong March 4th ? Steps to Starting a Small Business /strong  /font  /div  div  font size="2"  strong  br /  /strong  An overview of the necessary steps to take in starting a business.  You will learn the proper sequence to follow in planning your business and forming your company.  See Center website for time and location.\n\n\n\n /font  /div  div   /div  div  font size="2"  strong March 8th ? Information Session for CRS Taxpayers /strong  /font  /div  div  font size="2"  strong  br /  /strong Covers the basic taxes\, proper record keeping and how to file reports properly to avoid penalties.  See Center website for times and location.\n\n\n\n /font  /div  div   /div  div  font size="2"  strong March 10th ? Guerrilla Marketing Workgroup /strong  /font  /div  div  font size="2"  strong  br /  /strong Each workshop will be a group consulting program to include use and implementation of top Guerrilla Marketing tools\, designing materials\, advanced communication skills\, web-site and social network design. Develop your "Unique Selling Proposition" and elevator speeches. Define your problems and solve them. Come to One or All. Seating is limited. Instructor is Ken Dettelbach\, owner of Gateway Marketing.  See Center website for time and location.\n\n\n\n /font  /div  div   /div  div  font size="2"  strong March 16th ? Steps to Starting a Small Business /strong  /font  /div  div  font size="2"  strong  br /  /strong  An overview of the necessary steps to take in starting a business.  You will learn the proper sequence to follow in planning your business and forming your company.  See Center website for time and location.\n\n\n\n /font  /div  div   /div  div  font size="2"  strong March 30th ? Guerrilla Marketing Workgroup /strong  /font  /div  div  font size="2"  strong  br /  /strong Each workshop will be a group consulting program to include use and implementation of top Guerrilla Marketing tools\, designing materials\, advanced communication skills\, web-site and social network design. Develop your "Unique Selling Proposition" and elevator speeches. Define your problems and solve them. Come to One or All. Seating is limited. Instructor is Ken Dettelbach\, owner of Gateway Marketing.  See Center website for time and location.\n\n\n\n /font  /div  div   /div  div  font size="2"  strong March 31st ? Understanding Financial Statements /strong  /font  /div  div  font size="2"  strong  br /  /strong This workshop will cover the meaning of the four main financial statements: (1) balance sheet\; (2) income statement\; (3) cash flow statement\; and (4) statement of shareholders equity. Attendees should have a basic understanding and familiarity with the financial statements. Topics include the meaning and interpretation of each statement\, ratio analysis and financial forecasting. Samples of each statement will be provided. Instructor is Greg Dye\, SFCC Faculty.  See Center website for time and location.
X-ALT-DESC;FMTTYPE=text/html:&lt\;/font&gt\;&lt\;/div&gt\;&lt\;div&gt\; &lt\;/div&gt\;&lt\;div&gt\;&lt\;font size="2"&gt\;&lt\;strong&gt\;March 3rd ? Basic Bookkeeping&lt\;/strong&gt\;&lt\;/font&gt\;&lt\;/div&gt\;&lt\;div&gt\;&lt\;font size="2"&gt\;&lt\;strong&gt\;&lt\;br /&gt\;&lt\;/strong&gt\;If you have no\, or very limited\, understanding of bookkeeping this is an excellent introduction. In this workshop you will learn the key bookkeeping concepts and terminology\, the 2 principal financial statements and how they are related\, a simple single entry bookkeeping method and basic bookkeeping rules and processes. Please bring brown bag lunch. Instructor is Ida Carrillo   See Center website for time and location.\n<br>\n<br>&lt\;/font&gt\;&lt\;/div&gt\;&lt\;div&gt\; &lt\;/div&gt\;&lt\;div&gt\;&lt\;font size="2"&gt\;&lt\;strong&gt\;March 4th ? Steps to Starting a Small Business&lt\;/strong&gt\;&lt\;/font&gt\;&lt\;/div&gt\;&lt\;div&gt\;&lt\;font size="2"&gt\;&lt\;strong&gt\;&lt\;br /&gt\;&lt\;/strong&gt\; An overview of the necessary steps to take in starting a business.  You will learn the proper sequence to follow in planning your business and forming your company.  See Center website for time and location.\n<br>\n<br>&lt\;/font&gt\;&lt\;/div&gt\;&lt\;div&gt\; &lt\;/div&gt\;&lt\;div&gt\;&lt\;font size="2"&gt\;&lt\;strong&gt\;March 8th ? Information Session for CRS Taxpayers&lt\;/strong&gt\;&lt\;/font&gt\;&lt\;/div&gt\;&lt\;div&gt\;&lt\;font size="2"&gt\;&lt\;strong&gt\;&lt\;br /&gt\;&lt\;/strong&gt\;Covers the basic taxes\, proper record keeping and how to file reports properly to avoid penalties.  See Center website for times and location.\n<br>\n<br>&lt\;/font&gt\;&lt\;/div&gt\;&lt\;div&gt\; &lt\;/div&gt\;&lt\;div&gt\;&lt\;font size="2"&gt\;&lt\;strong&gt\;March 10th ? Guerrilla Marketing Workgroup&lt\;/strong&gt\;&lt\;/font&gt\;&lt\;/div&gt\;&lt\;div&gt\;&lt\;font size="2"&gt\;&lt\;strong&gt\;&lt\;br /&gt\;&lt\;/strong&gt\;Each workshop will be a group consulting program to include use and implementation of top Guerrilla Marketing tools\, designing materials\, advanced communication skills\, web-site and social network design. Develop your "Unique Selling Proposition" and elevator speeches. Define your problems and solve them. Come to One or All. Seating is limited. Instructor is Ken Dettelbach\, owner of Gateway Marketing.  See Center website for time and location.\n<br>\n<br>&lt\;/font&gt\;&lt\;/div&gt\;&lt\;div&gt\; &lt\;/div&gt\;&lt\;div&gt\;&lt\;font size="2"&gt\;&lt\;strong&gt\;March 16th ? Steps to Starting a Small Business&lt\;/strong&gt\;&lt\;/font&gt\;&lt\;/div&gt\;&lt\;div&gt\;&lt\;font size="2"&gt\;&lt\;strong&gt\;&lt\;br /&gt\;&lt\;/strong&gt\; An overview of the necessary steps to take in starting a business.  You will learn the proper sequence to follow in planning your business and forming your company.  See Center website for time and location.\n<br>\n<br>&lt\;/font&gt\;&lt\;/div&gt\;&lt\;div&gt\; &lt\;/div&gt\;&lt\;div&gt\;&lt\;font size="2"&gt\;&lt\;strong&gt\;March 30th ? Guerrilla Marketing Workgroup&lt\;/strong&gt\;&lt\;/font&gt\;&lt\;/div&gt\;&lt\;div&gt\;&lt\;font size="2"&gt\;&lt\;strong&gt\;&lt\;br /&gt\;&lt\;/strong&gt\;Each workshop will be a group consulting program to include use and implementation of top Guerrilla Marketing tools\, designing materials\, advanced communication skills\, web-site and social network design. Develop your "Unique Selling Proposition" and elevator speeches. Define your problems and solve them. Come to One or All. Seating is limited. Instructor is Ken Dettelbach\, owner of Gateway Marketing.  See Center website for time and location.\n<br>\n<br>&lt\;/font&gt\;&lt\;/div&gt\;&lt\;div&gt\; &lt\;/div&gt\;&lt\;div&gt\;&lt\;font size="2"&gt\;&lt\;strong&gt\;March 31st ? Understanding Financial Statements&lt\;/strong&gt\;&lt\;/font&gt\;&lt\;/div&gt\;&lt\;div&gt\;&lt\;font size="2"&gt\;&lt\;strong&gt\;&lt\;br /&gt\;&lt\;/strong&gt\;This workshop will cover the meaning of the four main financial statements: (1) balance sheet\; (2) income statement\; (3) cash flow statement\; and (4) statement of shareholders equity. Attendees should have a basic understanding and familiarity with the financial statements. Topics include the meaning and interpretation of each statement\, ratio analysis and financial forecasting. Samples of each statement will be provided. Instructor is Greg Dye\, SFCC Faculty.  See Center website for time and location.\n<br>
LOCATION:div strong img class="" height="79" width="180" alt="" src="https://secure.chambermaster.com/FCKeditor/UserFiles/chambers/379/Image/sfcc_imagelogo.jpg" / /strong /div
UID:e.379.123
SEQUENCE:3
DTSTAMP:20260421T144343Z
URL:http://santafehispanicchamber.sampleorg.com/events/details/event-at-small-business-development-center-03-01-2011-123
END:VEVENT

END:VCALENDAR
