BEGIN:VCALENDAR
VERSION:2.0
PRODID:-//ChamberMaster//Event Calendar 2.0//EN
METHOD:PUBLISH
X-PUBLISHED-TTL:P3D
REFRESH-INTERVAL:P3D
CALSCALE:GREGORIAN
BEGIN:VEVENT
DTSTART;VALUE=DATE:20100602
DTEND;VALUE=DATE:20100701
TRANSP:TRANSPARENT
X-MICROSOFT-CDO-ALLDAYEVENT:TRUE
SUMMARY:Event at Small Business Development Center
DESCRIPTION:June 8th  Information Session for CRS Taxpayers\nCovers the basic taxes\, proper record keeping and how to file reports properly to avoid penalties. See Center website for times and location. \n June 9th  Steps to Starting a Small Business\nAn overview of the necessary steps to take in starting a business. You will learn the proper sequence to follow in planning your business and forming your company. See Center website for time and location. \n June 22nd  Government Contracting 101\nIn this fast-paced\, informative and enjoyable workshop\, business owners are introduced to government contracting. Topics include: Does the government purchase my particular product or service? What do I need to do to get started in government marketing? What are the federal certifications? How will being certified help my business? Am I ?contract ready?? What resources are available to help me? How do I market my product/service to the government? During the roundtable discussion\, an informal question and answer session will be facilitated by Wendy Ederer and Elaine Palin. See Center website for time and location. \n  June 22nd  Guerrilla Marketing Class VI\nThis is the sixth and last in a series of the workshops. Learn advanced language communication\, left brain\, right brain\, internal communication\, reading sensory acuities\, 6 step programs to a well formed outcome. Recap\, questions\, awards. See Center website for time and location. \n  June 22nd  Sesi n informativa para pagadores de impuestos con N mero de Identificaci n   el Sistema de Cuentas \nCubrir  los impuestos b sicos\, la manera adecuada de mantener sus registros contables y como presenter sus reportes fiscales para evitar multas. \n  June 25th  Steps to Starting a Small Business\nAn overview of the necessary steps to take in starting a business. You will learn the proper sequence to follow in planning your business and forming your company. See Center website for time and location. \n  June 29th  Federal Procurement Certifications for Small Business \nGain Valuable Knowledge about the PTAP Program\, SBA/VA/GSA Business Development Programs\, and Government Contracting Opportunities: Learn About the Success of These Certification Programs in New Mexico: Discover Other Programs\, Certifications\, and Services Available to Small Business through Federal Government Agencies and their Resource Partners: Find Avenues for Marketing\, Networking\, Sub-Contracting\, and Business Development. See Center website for time and location.
X-ALT-DESC;FMTTYPE=text/html:<div>&nbsp\;</div><div>&nbsp\;</div><div>&nbsp\;</div><div><font size="2"><strong>June 8th&nbsp\; Information Session for CRS Taxpayers</strong></font></div><div><font size="2"><strong><br /></strong>Covers the basic taxes\, proper record keeping and how to file reports properly to avoid penalties. See Center website for times and location. <br /></font></div><div>&nbsp\;</div><div><font size="2"><strong>June 9th&nbsp\; Steps to Starting a Small Business</strong></font></div><div><font size="2"><strong><br /></strong>An overview of the necessary steps to take in starting a business. You will learn the proper sequence to follow in planning your business and forming your company. See Center website for time and location. <br /></font></div><div>&nbsp\;</div><div><font size="2"><strong>June 22nd&nbsp\; Government Contracting 101</strong></font></div><div><font size="2"><strong><br /></strong>In this fast-paced\, informative and enjoyable workshop\, business owners are introduced to government contracting. Topics include: Does the government purchase my particular product or service? What do I need to do to get started in government marketing? What are the federal certifications? How will being certified help my business? Am I ?contract ready?? What resources are available to help me? How do I market my product/service to the government? During the roundtable discussion\, an informal question and answer session will be facilitated by Wendy Ederer and Elaine Palin. See Center website for time and location. <br /></font></div><div>&nbsp\;</div><div>&nbsp\;</div><div><font size="2"><strong>June 22nd&nbsp\; Guerrilla Marketing Class VI</strong></font></div><div><font size="2"><strong><br /></strong>This is the sixth and last in a series of the workshops. Learn advanced language communication\, left brain\, right brain\, internal communication\, reading sensory acuities\, 6 step programs to a well formed outcome. Recap\, questions\, awards. See Center website for time and location. <br /></font></div><div>&nbsp\;</div><div>&nbsp\;</div><div><font size="2"><strong>June 22nd&nbsp\; Sesi&oacute\;n informativa para pagadores de impuestos con N&uacute\;mero de Identificaci&oacute\;n &oacute\; el Sistema de Cuentas </strong></font></div><div><font size="2"><strong><br /></strong>Cubrir&aacute\; los impuestos b&aacute\;sicos\, la manera adecuada de mantener sus registros contables y como presenter sus reportes fiscales para evitar multas. <br /></font></div><div>&nbsp\;</div><div>&nbsp\;</div><div><font size="2"><strong>June 25th&nbsp\; Steps to Starting a Small Business</strong></font></div><div><font size="2"><strong><br /></strong>An overview of the necessary steps to take in starting a business. You will learn the proper sequence to follow in planning your business and forming your company. See Center website for time and location. <br /></font></div><div>&nbsp\;</div><div>&nbsp\;</div><div><font size="2"><strong>June 29th&nbsp\; Federal Procurement Certifications for Small Business </strong></font></div><div><font size="2"><strong><br /></strong>Gain Valuable Knowledge about the PTAP Program\, SBA/VA/GSA Business Development Programs\, and Government Contracting Opportunities: Learn About the Success of These Certification Programs in New Mexico: Discover Other Programs\, Certifications\, and Services Available to Small Business through Federal Government Agencies and their Resource Partners: Find Avenues for Marketing\, Networking\, Sub-Contracting\, and Business Development. See Center website for time and location. <br /></font></div>
LOCATION:
UID:e.379.100
SEQUENCE:3
DTSTAMP:20260422T071854Z
URL:http://santafehispanicchamber.sampleorg.com/events/details/event-at-small-business-development-center-06-02-2010-100
END:VEVENT

END:VCALENDAR
