BEGIN:VCALENDAR
VERSION:2.0
PRODID:-//ChamberMaster//Event Calendar 2.0//EN
METHOD:PUBLISH
X-PUBLISHED-TTL:P3D
REFRESH-INTERVAL:P3D
CALSCALE:GREGORIAN
BEGIN:VEVENT
DTSTART:20081120T220000Z
DTEND:20081121T020000Z
X-MICROSOFT-CDO-ALLDAYEVENT:FALSE
SUMMARY:Family Center Grand Opening
DESCRIPTION:TeamBuilders Counseling Services\, along with Zia Behavioral Health\, would like to invite the community to a free open house event to celebrate the opening of our new Family Center located at 2504 Camino Entrada in Santa Fe. Children\, families\, and members of the health care community are invited to tour our new facility\, meet members of our staff\, and enjoy free refreshments -- there will even be a bounce house for the kids! For more information\, call 471-5006.
X-ALT-DESC;FMTTYPE=text/html:TeamBuilders Counseling Services\, along with Zia Behavioral Health\, would like to invite the community to a free open house event to celebrate the opening of our new Family Center located at 2504 Camino Entrada in Santa Fe. Children\, families\, and members of the health care community are invited to tour our new facility\, meet members of our staff\, and enjoy free refreshments -- there will even be a bounce house for the kids! For more information\, call 471-5006.
LOCATION:2504 Camino Entrada (across from the Municipal Courthouse)
UID:e.379.9
SEQUENCE:3
DTSTAMP:20260423T132942Z
URL:http://santafehispanicchamber.sampleorg.com/events/details/family-center-grand-opening-11-20-2008-9
END:VEVENT

END:VCALENDAR
