BEGIN:VCALENDAR
VERSION:2.0
PRODID:-//ChamberMaster//Event Calendar 2.0//EN
METHOD:PUBLISH
X-PUBLISHED-TTL:P3D
REFRESH-INTERVAL:P3D
CALSCALE:GREGORIAN
BEGIN:VEVENT
DTSTART:20120217T003000Z
DTEND:20120217T023000Z
X-MICROSOFT-CDO-ALLDAYEVENT:FALSE
SUMMARY:February Education\, Fraud prevention and Networking Event
DESCRIPTION:You are invited February 16 for appetizers and drinks at \n\nNew Mexico Bank & Trust \n\n\n\n for a Business Networking Event!\n\n\n\nSt. Michael's Drive Main Branch\, Santa Fe\, NM\n\n\n\nPresentations by \n\nAlan Austin\, NMB&T President on "Be an Education Hero"\n\nand Ben Chavarria\, SFHCC President \n\n\n\nBring your Business Cards & Network with other Santa Fe Businesses
X-ALT-DESC;FMTTYPE=text/html:<em><strong>You are invited February 16 for appetizers and drinks at </strong><br />\n<span style="font-family: georgia"><strong>New Mexico Bank &amp\; Trust </strong></span></em><br />\n<br />\n<strong><span style="font-size: 12pt"><span style="color: #007da1"><span style="font-family: georgia">&nbsp\;</span></span></span><em><span style="font-size: 12pt"><span style="color: #007da1"><span style="font-family: georgia">for a Business Networking Event!</span></span></span></em></strong><br />\n<br />\n<em><span style="font-size: 12pt"><span style="color: #007da1"><span style="font-family: georgia"><strong><em><span style="font-family: georgia">St. Michael&#39\;s Drive Main Branch\, Santa Fe\, NM</span></em></strong></span><br />\n<br />\n<strong><em><span style="font-family: georgia">Presentations by </span></em></strong></span><br />\n<strong><em><span style="font-family: georgia">Alan Austin\, NMB&amp\;T President on &quot\;Be an Education Hero&quot\;</span></em></strong></span><br />\n<strong><em><span style="font-family: georgia">and Ben Chavarria\, SFHCC President </span></em></strong></em><br />\n<br />\n<span style="font-size: 12pt"><span style="color: #007da1"><span style="font-family: georgia"><strong><span style="font-family: georgia">Bring your Business Cards &amp\; Network with other Santa Fe Businesses&nbsp\;</span></strong></span></span></span>
LOCATION:New Mexico Bank and Trust 1602 Saint Michael's Drive Santa Fe\, NM 87505
UID:e.379.141
SEQUENCE:3
DTSTAMP:20260420T221854Z
URL:http://santafehispanicchamber.sampleorg.com/events/details/february-education-fraud-prevention-and-networking-event-02-16-2012-141
END:VEVENT

END:VCALENDAR
