BEGIN:VCALENDAR
VERSION:2.0
PRODID:-//ChamberMaster//Event Calendar 2.0//EN
METHOD:PUBLISH
X-PUBLISHED-TTL:P3D
REFRESH-INTERVAL:P3D
CALSCALE:GREGORIAN
BEGIN:VEVENT
DTSTART:20101031T200000Z
DTEND:20101031T230000Z
X-MICROSOFT-CDO-ALLDAYEVENT:FALSE
SUMMARY:Fiesta de Día de Muertos
DESCRIPTION:Concurso de Altares\, Pan de Muerto\, Música y Entretenimiento\n\n\n\nRecepción patrocinada por: El Consulado de México
X-ALT-DESC;FMTTYPE=text/html:Concurso de Altares\, Pan de Muerto\, Música y Entretenimiento\n<br>\n<br>Recepción patrocinada por: El Consulado de México 
LOCATION:South Broadway Cultrual Center 1025 Broadway S.E. Albuquerque\, NM 505-848-1320
UID:e.379.115
SEQUENCE:3
DTSTAMP:20260422T012348Z
URL:http://santafehispanicchamber.sampleorg.com/events/details/fiesta-de-d&#237;a-de-muertos-10-31-2010-115
END:VEVENT

END:VCALENDAR
