BEGIN:VCALENDAR
VERSION:2.0
PRODID:-//ChamberMaster//Event Calendar 2.0//EN
METHOD:PUBLISH
X-PUBLISHED-TTL:P3D
REFRESH-INTERVAL:P3D
CALSCALE:GREGORIAN
BEGIN:VEVENT
DTSTART:20090815T150000Z
DTEND:20090815T190000Z
X-MICROSOFT-CDO-ALLDAYEVENT:FALSE
SUMMARY:FREE Cooking Class at Art/Flea Market
DESCRIPTION:Come learn healthy ways for preparing Spinach\, Collards\, Kale\, Chard and Mustard Greens. Learn to toss a nutritious and tasty Sweet Basil Salad. Sample Raw Microgreens!Demonstration and samples begin at 11AM.Call Felicia at 920.4515 for more information! Location: Santa Fe at Plaza Contenta\, Tierra Contenta\, Jaguar DriveSaturday\, August 15\, 2009 from 9 am - 1 pm Flea Market                                                         11 am -Free Cooking Class
X-ALT-DESC;FMTTYPE=text/html:<div>Come learn healthy ways for preparing Spinach\, Collards\, Kale\, Chard and Mustard Greens. Learn to toss a nutritious and tasty Sweet Basil Salad. Sample Raw Microgreens!</div><div>Demonstration and samples begin at 11AM.</div><div>Call Felicia at 920.4515 for more information!</div><div>&nbsp\;</div><div>Location: Santa Fe at Plaza Contenta\, Tierra Contenta\, Jaguar Drive</div><div>Saturday\, August 15\, 2009 from 9 am - 1 pm Flea Market</div><div>&nbsp\;&nbsp\;&nbsp\;&nbsp\;&nbsp\;&nbsp\;&nbsp\;&nbsp\;&nbsp\;&nbsp\;&nbsp\;&nbsp\;&nbsp\;&nbsp\;&nbsp\;&nbsp\;&nbsp\;&nbsp\;&nbsp\;&nbsp\;&nbsp\;&nbsp\;&nbsp\;&nbsp\;&nbsp\;&nbsp\;&nbsp\;&nbsp\;&nbsp\;&nbsp\;&nbsp\;&nbsp\;&nbsp\;&nbsp\;&nbsp\;&nbsp\;&nbsp\;&nbsp\;&nbsp\;&nbsp\;&nbsp\;&nbsp\;&nbsp\;&nbsp\;&nbsp\;&nbsp\;&nbsp\;&nbsp\;&nbsp\;&nbsp\;&nbsp\;&nbsp\;&nbsp\;&nbsp\;&nbsp\;&nbsp\;&nbsp\;11 am -<u>Free Cooking Class</u></div>
LOCATION:Santa Fe/Plaza Contenta
UID:e.379.79
SEQUENCE:3
DTSTAMP:20260422T235413Z
URL:http://santafehispanicchamber.sampleorg.com/events/details/free-cooking-class-at-art-flea-market-08-15-2009-79
END:VEVENT

END:VCALENDAR
