BEGIN:VCALENDAR
VERSION:2.0
PRODID:-//ChamberMaster//Event Calendar 2.0//EN
METHOD:PUBLISH
X-PUBLISHED-TTL:P3D
REFRESH-INTERVAL:P3D
CALSCALE:GREGORIAN
BEGIN:VEVENT
DTSTART:20090619T133000Z
DTEND:20090619T150000Z
X-MICROSOFT-CDO-ALLDAYEVENT:FALSE
SUMMARY:Green Business Networking Meeting
DESCRIPTION:In January\, the Governor formed the Green Jobs Cabinet to promote New Mexico's Green Economy\, create new green jobs both in rural and urban communities\, and ensure that New Mexicans are trained and prepared to succeed in these jobs.  Get the inside scoop on the NM Green Economy Initiative from special guest Brendan Miller\, Green Economy Manager for the New Mexico Economic Development Department. Delicious pastries\, coffee\, and tea generously provided by La Montanita Coop.
X-ALT-DESC;FMTTYPE=text/html:<div>&nbsp\;</div><div>&nbsp\;</div><div><strong><span style="font-size: medium\;">In January\, the Governor formed the Green Jobs Cabinet to promote New Mexico&rsquo\;s Green Economy\, create new green jobs both in rural and urban communities\, and ensure that New Mexicans are trained and prepared to succeed in these jobs.  Get the inside scoop on the NM Green Economy Initiative from special guest Brendan Miller\, Green Economy Manager for the New Mexico Economic Development Department. Delicious pastries\, coffee\, and tea generously provided by La Montanita Coop.  			</span></strong></div>
LOCATION:Annapurna World Vegetarian CafeCasa Solana Shopping Center
UID:e.379.67
SEQUENCE:3
DTSTAMP:20260423T023213Z
URL:http://santafehispanicchamber.sampleorg.com/events/details/green-business-networking-meeting-06-19-2009-67
END:VEVENT

END:VCALENDAR
