BEGIN:VCALENDAR
VERSION:2.0
PRODID:-//ChamberMaster//Event Calendar 2.0//EN
METHOD:PUBLISH
X-PUBLISHED-TTL:P3D
REFRESH-INTERVAL:P3D
CALSCALE:GREGORIAN
BEGIN:VEVENT
DTSTART:20090717T133000Z
DTEND:20090717T150000Z
X-MICROSOFT-CDO-ALLDAYEVENT:FALSE
SUMMARY:Green Business Networking Meeting
DESCRIPTION:Come meet other green business owners over delicious pastries\, coffee\, and tea generously provided by La Montanita Coop. Rebecca Sobel\, from WildEarth Guardians\, will give a brief talk on the Renew Santa Fe Project. Annapurna Cafe\, 905 W. Alameda\, Santa Fe\, NM
X-ALT-DESC;FMTTYPE=text/html:<div>Come meet other green business owners over delicious pastries\, coffee\, and tea generously provided by La Montanita Coop.</div><div>&nbsp\;</div><div>Rebecca Sobel\, from WildEarth Guardians\, will give a brief talk on the Renew Santa Fe Project.</div><div>&nbsp\;</div><div>Annapurna Cafe\, 905 W. Alameda\, Santa Fe\, NM</div>
LOCATION:
UID:e.379.76
SEQUENCE:3
DTSTAMP:20260423T011045Z
URL:http://santafehispanicchamber.sampleorg.com/events/details/green-business-networking-meeting-07-17-2009-76
END:VEVENT

END:VCALENDAR
