BEGIN:VCALENDAR
VERSION:2.0
PRODID:-//ChamberMaster//Event Calendar 2.0//EN
METHOD:PUBLISH
X-PUBLISHED-TTL:P3D
REFRESH-INTERVAL:P3D
CALSCALE:GREGORIAN
BEGIN:VEVENT
DTSTART:20090730T003000Z
DTEND:20090730T023000Z
X-MICROSOFT-CDO-ALLDAYEVENT:FALSE
SUMMARY:Green Drinks
DESCRIPTION:Santa Fe Green Drinks Still having drinks with the same crowd at the same places?  Global warming got you down that you never want to leave the house?  Break the chains of environmental status quo and come out for inspiring information\, new people\, conscious restauranteurs\, and Green Drinks!  The local edition of an international phenomenon that facilitates conversation\, networking and inspiration about evolving green ideas\, techniques and policies. The Teahouse\, 821 Canyon Road\, Outside Garden Area\, Santa Fe\, NM
X-ALT-DESC;FMTTYPE=text/html:<div>Santa Fe Green Drinks</div><div>&nbsp\;</div><div>Still having drinks with the same crowd at the same places?&nbsp\; Global warming got you down that you never want to leave the house?&nbsp\; Break the chains of environmental status quo and come out for inspiring information\, new people\, conscious restauranteurs\, and Green Drinks!&nbsp\; The local edition of an international phenomenon that facilitates conversation\, networking and inspiration about evolving green ideas\, techniques and policies.</div><div>&nbsp\;</div><div>The Teahouse\, 821 Canyon Road\, Outside Garden Area\, Santa Fe\, NM</div>
LOCATION:
UID:e.379.75
SEQUENCE:3
DTSTAMP:20260423T010608Z
URL:http://santafehispanicchamber.sampleorg.com/events/details/green-drinks-07-29-2009-75
END:VEVENT

END:VCALENDAR
