BEGIN:VCALENDAR
VERSION:2.0
PRODID:-//ChamberMaster//Event Calendar 2.0//EN
METHOD:PUBLISH
X-PUBLISHED-TTL:P3D
REFRESH-INTERVAL:P3D
CALSCALE:GREGORIAN
BEGIN:VEVENT
DTSTART:20130619T233000Z
DTEND:20130620T013000Z
X-MICROSOFT-CDO-ALLDAYEVENT:FALSE
SUMMARY:Health Insurance Informational Seminar
DESCRIPTION:Health Care Reform Update:  Are you ready for 2014?\n\nJoin us Wednesday June 19th at the HUB Offices..\n\n \n\nDo you know which of your employees will be entitled to coverage under next year's health care reform mandate?  Do you understand what affordability and minimum value mean?  What steps will you take to comply with the law?  Please join us as we consider these and other health care reform topics.  This valuable seminar will be led by Lisa Bloom\, Assistant Vice President from HUBINT. Insurance Services and serves NM Employee Benefits.
X-ALT-DESC;FMTTYPE=text/html:<strong><span style="font-size:18px\;"><span style="color: rgb(0\, 0\, 205)\;">Health Care Reform Update:&nbsp\; Are you ready for 2014?<br />\nJoin us Wednesday June 19<sup>th</sup> at the HUB Offices..</span></span></strong><br />\n&nbsp\;<br />\n<strong>Do you know which of your employees will be entitled to coverage under next year&rsquo\;s health care reform mandate?&nbsp\; Do you understand what affordability and minimum value mean?&nbsp\; What steps will you take to comply with the law?&nbsp\; Please join us as we consider these and other health care reform topics.&nbsp\; This valuable seminar will be led by Lisa Bloom\, Assistant Vice President from HUBINT. Insurance Services and serves NM Employee Benefits.</strong><br />\n
LOCATION:HUB International Offices 2044 Galisteo\, Suite 2 Santa Fe\, NM 87505
UID:e.379.158
SEQUENCE:3
DTSTAMP:20260419T193213Z
URL:http://santafehispanicchamber.sampleorg.com/events/details/health-insurance-informational-seminar-06-19-2013-158
END:VEVENT

END:VCALENDAR
