BEGIN:VCALENDAR
VERSION:2.0
PRODID:-//ChamberMaster//Event Calendar 2.0//EN
METHOD:PUBLISH
X-PUBLISHED-TTL:P3D
REFRESH-INTERVAL:P3D
CALSCALE:GREGORIAN
BEGIN:VEVENT
DTSTART:20081010T230000Z
DTEND:20081011T013000Z
X-MICROSOFT-CDO-ALLDAYEVENT:FALSE
SUMMARY:Hispanic Heritage Month Celebration
DESCRIPTION:As we celebrate National Hispanic Heritage Month\, we want to celebrate with Santa Fe's Hispanic Businesses and small business and the Hispanic Community and all who may be interested in Hispanic issues.  Please join us.
X-ALT-DESC;FMTTYPE=text/html:<div>As we celebrate National Hispanic Heritage Month\, we want to celebrate with Santa Fe&rsquo\;s Hispanic Businesses and small business and&nbsp\;the Hispanic Community and all who may be interested in Hispanic issues.&nbsp\; Please join us.</div>
LOCATION:Santa Fe Community Convention CenterLobby area and GalleryDowntown Santa Fe
UID:e.379.5
SEQUENCE:3
DTSTAMP:20260423T150233Z
URL:http://santafehispanicchamber.sampleorg.com/events/details/hispanic-heritage-month-celebration-10-10-2008-5
END:VEVENT

END:VCALENDAR
