BEGIN:VCALENDAR
VERSION:2.0
PRODID:-//ChamberMaster//Event Calendar 2.0//EN
METHOD:PUBLISH
X-PUBLISHED-TTL:P3D
REFRESH-INTERVAL:P3D
CALSCALE:GREGORIAN
BEGIN:VEVENT
DTSTART:20091012T220000Z
DTEND:20091013T000000Z
X-MICROSOFT-CDO-ALLDAYEVENT:FALSE
SUMMARY:Hispanic Heritage Month Celebration
DESCRIPTION:Hispanic Heritage MonthCelebrating:Commerce/Culture/Art/Music/Literature/HeritageThe Santa Fe Hispanic Chamber of Commerce (SFHCC) cordially invites you to join us in celebrating Hispanic Heritage Month. This SFHCC event is to honor the 400+ years of commerce in Santa Fe\, your participation supports the SFHCC\, in turn\, supporting you as a local business.Together with the Zane Bennett Gallery\, The Santa Fe Hispanic Chamber of Commerce invites you to celebrate Hispanic Heritage Month on Monday October 12\, 2009 from 4: 00 to 6:00 p.m. This celebration will be held at the Zane Bennett Contemporary Art Gallery located in Santa Fe at 435 South Guadalupe. Join us for Paella\, Sangria\, and a raffle that includes a chance at winning Southwest Airline tickets\, a purse from Goler Fine Shoes\, and a bundle of books from Hispanic Authors. This event honors:Hispanic EntrepreneursHispanic Authors and Artists\, andHispanic traditions and culture
X-ALT-DESC;FMTTYPE=text/html:<div><div style="text-align: center\; margin: 0in 0in 10pt" align="center"><strong><span style="line-height: 115%\; font-size: 10pt">Hispanic Heritage Month</span></strong></div><div style="text-align: center\; margin: 0in 0in 10pt" align="center"><strong><span style="line-height: 115%\; font-size: 10pt">Celebrating:</span></strong></div><div style="text-align: center\; margin: 0in 0in 10pt" align="center"><strong><span style="line-height: 115%\; font-size: 10pt">Commerce/Culture/Art/Music/Literature/Heritage</span></strong></div><div style="margin: 0in 0in 10pt"><span style="line-height: 115%\; font-size: 10pt">The Santa Fe Hispanic Chamber of Commerce (SFHCC) cordially invites you to join us in celebrating Hispanic Heritage Month. This SFHCC event is to honor the 400+ years of commerce in Santa Fe\, your participation supports the SFHCC\, in turn\, supporting you as a local business.</span></div><div style="margin: 0in 0in 10pt"><span style="line-height: 115%\; font-size: 10pt">Together with the <em>Zane Bennett Gallery</em>\, The Santa Fe Hispanic Chamber of Commerce invites you to celebrate Hispanic Heritage Month on <u>Monday October 12\, 2009 from 4: 00 to 6:00 p.m</u>. This celebration will be held at the Zane Bennett Contemporary Art Gallery located in Santa Fe at 435 South Guadalupe. Join us for Paella\, Sangria\, and a raffle that includes a chance at winning Southwest Airline tickets\, a purse from Goler Fine Shoes\, and a bundle of books from Hispanic Authors. This event honors:</span></div><ul type="disc" style="margin-top: 0in"><li style="margin: 0in 0in 10pt"><span style="line-height: 115%\; font-size: 10pt">Hispanic Entrepreneurs</span></li><li style="margin: 0in 0in 10pt"><span style="line-height: 115%\; font-size: 10pt">Hispanic Authors and Artists\, and</span></li><li style="margin: 0in 0in 10pt"><span style="line-height: 115%\; font-size: 10pt">Hispanic traditions and culture</span></li></ul></div>
LOCATION:
UID:e.379.80
SEQUENCE:3
DTSTAMP:20260422T203105Z
URL:http://santafehispanicchamber.sampleorg.com/events/details/hispanic-heritage-month-celebration-10-12-2009-80
END:VEVENT

END:VCALENDAR
