BEGIN:VCALENDAR
VERSION:2.0
PRODID:-//ChamberMaster//Event Calendar 2.0//EN
METHOD:PUBLISH
X-PUBLISHED-TTL:P3D
REFRESH-INTERVAL:P3D
CALSCALE:GREGORIAN
BEGIN:VEVENT
DTSTART:20100330T233000Z
DTEND:20100331T013000Z
X-MICROSOFT-CDO-ALLDAYEVENT:FALSE
SUMMARY:Increasing Hispanic Involvement with Big Brothers Big Sisters
DESCRIPTION:You are cordially invited to share an evening of thoughtful discussion regarding "Increasing Hispanic Involvement" with Big Brothers Big Sisters and our community through mentoring\, volunteering\, board membership and philanthropy.
X-ALT-DESC;FMTTYPE=text/html:<div>You are cordially invited to share an evening of thoughtful discussion regarding &quot\;Increasing Hispanic Involvement&quot\; with Big Brothers Big Sisters and our community through mentoring\, volunteering\, board membership and philanthropy.</div>
LOCATION:El Farol Restaurant & Cantina and David Salazar\, President of the Santa Fe Hispanic Chamber 808 Canyon Road\, Santa Fe\, NM
UID:e.379.92
SEQUENCE:3
DTSTAMP:20260422T135642Z
URL:http://santafehispanicchamber.sampleorg.com/events/details/increasing-hispanic-involvement-with-big-brothers-big-sisters-03-30-2010-92
END:VEVENT

END:VCALENDAR
