BEGIN:VCALENDAR
VERSION:2.0
PRODID:-//ChamberMaster//Event Calendar 2.0//EN
METHOD:PUBLISH
X-PUBLISHED-TTL:P3D
REFRESH-INTERVAL:P3D
CALSCALE:GREGORIAN
BEGIN:VEVENT
DTSTART:20111026T013000Z
DTEND:20111026T033000Z
X-MICROSOFT-CDO-ALLDAYEVENT:FALSE
SUMMARY:Juan Gonzalez\, Democracy Now! Co-Host
DESCRIPTION:What does "balance" mean in the American media? Are the cultural and ethnic perspectives of citizens diluted in what we read\, hear\, and watch? What does it mean to hear another side? Join KSFR   Santa Fe's Own Public Radio Station for an evening of insight and conversation with George Peck award-winning journalist\, Juan Gonzalez\, as he dissects the inequities in the media from the days of the first colonial newspaper to the age of the Internet. \n\n	A professional journalist for over thirty years and founder of the National Association for Hispanic Journalists\, Gonzalez was one of the first reporters to write about the health effects of first-responders and citizens at Ground Zero following the September 11th terrorist attacks. An advocate for young Latino journalists\, Gonzalez created the Parity Project to build partnerships between local communities and media outlets to grow the coverage of issues affecting the Hispanic community.  \n\n	Author of three books examining the environmental consequences of the World Trade Center collapse\, a history of Latinos in America\, and his latest book\, News for All the People: The Epic Story of Race and the American Media\, Gonzalez considers how major political debates and the rise of media conglomerates led to the rise of the alternative media forged by the African-American\, Latino\, Native American\, and Asian communities. \n\n	A diligent advocate on the page and on the radio\, Gonzalez pursues stories that others neglect as the co-host of Democracy Now!\, the only public media program in the country airing on radio\, satellite\, cable television and the Internet with broadcasts on over 900 radio stations including KSFR. \n\n	Tickets are $15.00 each. For reservations and information\, please call 428-1789.
X-ALT-DESC;FMTTYPE=text/html:<p class="MsoNormal" style="margin: 0in 0in 10pt 0.5in">\n	<span style="line-height: 115%\; font-family: 'times new roman'\; font-size: 12pt\; mso-bidi-font-size: 10.0pt\; mso-bidi-font-family: georgia"><font color="#000000">What does &ldquo\;balance&rdquo\; mean in the American media? Are the cultural and ethnic perspectives of citizens diluted in what we read\, hear\, and watch? What does it mean to hear another side? Join KSFR &ndash\; Santa Fe&rsquo\;s Own Public Radio Station for an evening of insight and conversation with George Peck award-winning journalist\, Juan Gonzalez\, as he dissects the inequities in the media from the days of the first colonial newspaper to the age of the Internet. <o:p></o:p></font></span></p>\n<p class="MsoNormal" style="margin: 0in 0in 10pt 0.5in">\n	<span style="line-height: 115%\; font-family: 'times new roman'\; font-size: 12pt\; mso-bidi-font-size: 10.0pt\; mso-bidi-font-family: georgia"><font color="#000000">A professional journalist for over thirty years and founder of the National Association for Hispanic Journalists\, Gonzalez was one of the first reporters to write about the health effects of first-responders and citizens at Ground Zero following the September 11<sup>th</sup> terrorist attacks. An advocate for young Latino journalists\, Gonzalez created the Parity Project to build partnerships between local communities and media outlets to grow the coverage of issues affecting the Hispanic community.<span style="mso-spacerun: yes">&nbsp\; </span><o:p></o:p></font></span></p>\n<p class="MsoNormal" style="margin: 0in 0in 10pt 0.5in">\n	<span style="line-height: 115%\; font-family: 'times new roman'\; font-size: 12pt\; mso-bidi-font-size: 10.0pt\; mso-bidi-font-family: georgia"><font color="#000000">Author of three books examining the environmental consequences of the World Trade Center collapse\, a history of Latinos in America\, and his latest book\, <i style="mso-bidi-font-style: normal">News for All the People: The Epic Story of Race and the American Media</i>\, Gonzalez considers how major political debates and the rise of media conglomerates led to the rise of the alternative media forged by the African-American\, Latino\, Native American\, and Asian communities. <o:p></o:p></font></span></p>\n<p class="MsoNormal" style="margin: 0in 0in 10pt 0.5in">\n	<font color="#000000"><span style="line-height: 115%\; font-family: 'times new roman'\; font-size: 12pt\; mso-bidi-font-size: 10.0pt\; mso-bidi-font-family: georgia">A diligent advocate on the page and on the radio\, Gonzalez pursues stories that others neglect as the co-host of Democracy Now!</span><span style="line-height: 115%\; font-family: 'times new roman'\; font-size: 12pt\; mso-bidi-font-size: 11.0pt\; mso-bidi-font-family: georgia">\, the only public media program in the country airing on radio\, satellite\, cable television and the Internet with broadcasts on over 900 radio stations including KSFR. </span><span style="line-height: 115%\; font-family: 'times new roman'\; font-size: 12pt\; mso-bidi-font-size: 10.0pt\; mso-bidi-font-family: georgia"><o:p></o:p></span></font></p>\n<p class="MsoNormal" style="margin: 0in 0in 10pt 0.5in">\n	<span style="line-height: 115%\; font-family: 'times new roman'\; font-size: 12pt\; mso-bidi-font-size: 10.0pt\; mso-bidi-font-family: georgia"><font color="#000000">Tickets are $15.00 each. For reservations and information\, please call 428-1789.</font></span></p>\n
LOCATION:Armory for the Arts\, 1050 Old Pecos Trail\, Santa Fe
UID:e.379.135
SEQUENCE:3
DTSTAMP:20260421T041506Z
URL:http://santafehispanicchamber.sampleorg.com/events/details/juan-gonzalez-democracy-now-co-host-10-25-2011-135
END:VEVENT

END:VCALENDAR
