BEGIN:VCALENDAR
VERSION:2.0
PRODID:-//ChamberMaster//Event Calendar 2.0//EN
METHOD:PUBLISH
X-PUBLISHED-TTL:P3D
REFRESH-INTERVAL:P3D
CALSCALE:GREGORIAN
BEGIN:VEVENT
DTSTART:20110825T233000Z
DTEND:20110826T013000Z
X-MICROSOFT-CDO-ALLDAYEVENT:FALSE
SUMMARY:Kai Sushi & Dining after hours Networking
DESCRIPTION:
X-ALT-DESC;FMTTYPE=text/html:
LOCATION:720 St. Michael's Drive Santa Fe\, NM
UID:e.379.132
SEQUENCE:3
DTSTAMP:20260421T070936Z
URL:http://santafehispanicchamber.sampleorg.com/events/details/kai-sushi-dining-after-hours-networking-08-25-2011-132
END:VEVENT

END:VCALENDAR
