BEGIN:VCALENDAR
VERSION:2.0
PRODID:-//ChamberMaster//Event Calendar 2.0//EN
METHOD:PUBLISH
X-PUBLISHED-TTL:P3D
REFRESH-INTERVAL:P3D
CALSCALE:GREGORIAN
BEGIN:VEVENT
DTSTART:20090701T000000Z
DTEND:20090701T020000Z
X-MICROSOFT-CDO-ALLDAYEVENT:FALSE
SUMMARY:Loan Fund Business Workshop
DESCRIPTION:The New Mexico Community Development Loan Fund is a private\, tax-exempt organization that provides loans\, training and business consulting to entrepreneurs\, business owners and non-profit organizations throughout the state and the entire Navajo Nation. Their services support the efforts of low-income individuals and their communities to achieve self-reliance and control over their economic destinies. The Loan Fund has successfully assisted hundreds of small business owners and non-profit organizations over the years. Rich Freeman will be doing group coaching as part of the workshop.
X-ALT-DESC;FMTTYPE=text/html:<div>&nbsp\;</div><div>&nbsp\;</div><div>&nbsp\;</div><div><strong><span style="font-size: small\;">The New Mexico Community Development Loan Fund is a private\, tax-exempt organization that provides loans\, training and business consulting to entrepreneurs\, business owners and non-profit organizations throughout the state and the entire Navajo Nation. Their services support the efforts of low-income individuals and their communities to achieve self-reliance and control over their economic destinies. The Loan Fund has successfully assisted hundreds of small business owners and non-profit organizations over the years. Rich Freeman will be doing group coaching as part of the workshop. 			</span></strong></div>
LOCATION:Santa Fe Complex
UID:e.379.68
SEQUENCE:3
DTSTAMP:20260423T022946Z
URL:http://santafehispanicchamber.sampleorg.com/events/details/loan-fund-business-workshop-06-30-2009-68
END:VEVENT

END:VCALENDAR
