BEGIN:VCALENDAR
VERSION:2.0
PRODID:-//ChamberMaster//Event Calendar 2.0//EN
METHOD:PUBLISH
X-PUBLISHED-TTL:P3D
REFRESH-INTERVAL:P3D
CALSCALE:GREGORIAN
BEGIN:VEVENT
DTSTART:20120321T173000Z
DTEND:20120321T193000Z
X-MICROSOFT-CDO-ALLDAYEVENT:FALSE
SUMMARY:March Membership Luncheon
DESCRIPTION:Join us for a Santa Fe Hispanic Chamber of Commerce Membership Luncheon\n\n\n\nWednesday\, March 21st\, 2012
X-ALT-DESC;FMTTYPE=text/html:<span style="font-family: arial"><span style="font-size: 14px">Join us for a Santa Fe Hispanic Chamber of Commerce Membership Luncheon<br />\n<br />\nWednesday\, March 21st\, 2012</span></span>
LOCATION:La Choza Restaurant 905 Alarid Street Santa Fe\, NM
UID:e.379.142
SEQUENCE:3
DTSTAMP:20260420T205316Z
URL:http://santafehispanicchamber.sampleorg.com/events/details/march-membership-luncheon-03-21-2012-142
END:VEVENT

END:VCALENDAR
