BEGIN:VCALENDAR
VERSION:2.0
PRODID:-//ChamberMaster//Event Calendar 2.0//EN
METHOD:PUBLISH
X-PUBLISHED-TTL:P3D
REFRESH-INTERVAL:P3D
CALSCALE:GREGORIAN
BEGIN:VEVENT
DTSTART:20120628T213000Z
DTEND:20120629T000000Z
X-MICROSOFT-CDO-ALLDAYEVENT:FALSE
SUMMARY:Marketing Class
DESCRIPTION:You are invited to an evolutionary event\n\n\n	\n		From technology to communication and everything in between\, our lives are constantly evolving. So why use yesterday's techniques to interact with your customers?\n\n		\n\n		Be evolutionary! Increase your reach by leveraging online\, mobile\, print and marketing communications that excite your customers\n\n		\n\n		On June 28th\, 2012\, experience an evolution in the way you communicate\, forever. Choose from one of two exclusive class times: Class One: 3:30 4:30 p.m. or Class Two: 5:00 6:00 p.m. Just scan the QR code to RSVP and let us know which class time works best for you!\n	\n		\n\n		Think in the new "now." Use experiential marketing to catch the market share of attention for your product\, service or organization. Learn how to build your marketing strategy as an opportunity to immerse the end user in your brand and allow them to carry the message forward. RSVP by calling 505.473.1300 or by emailing jrobinson@alphagraphics.com.
X-ALT-DESC;FMTTYPE=text/html:<font color="#ee3123" face="times new roman" style="font-weight: bold\; "><span style="font-size: 21.5pt\;"><i>You are invited to an evolutionary event</i></span></font><br />\n<div style="text-align: -webkit-left\;">\n	<h3 style="color:red\;">\n		<span style="font-size:12px\;"><span style="font-family: arial\; "><span style="color: rgb(34\, 30\, 31)\; ">From technology to communication and everything in between\, our lives are constantly evolving. So why use yesterday&rsquo\;s techniques to&nbsp\;</span><span style="color: rgb(34\, 30\, 31)\; ">interact with your customers?</span><br />\n		<br />\n		<span style="color: rgb(34\, 30\, 31)\; ">Be evolutionary! Increase your reach by leveraging online\, mobile\, print and marketing communications that excite your customers</span><br />\n		<br />\n		<span style="color: rgb(34\, 30\, 31)\; ">On </span><span style="color: rgb(238\, 49\, 35)\; ">June 28th\, 2012</span><span style="color: rgb(34\, 30\, 31)\; ">\, experience an evolution in the way you communicate\, forever. Choose from one of two exclusive class times: </span><span style="color: rgb(238\, 49\, 35)\; ">Class One: 3:30&ndash\;4:30 p.m. </span><em><span style="color: rgb(34\, 30\, 31)\; ">or </span></em><span style="color: rgb(238\, 49\, 35)\; ">Class Two: 5:00&ndash\;6:00 p.m. </span><span style="color: rgb(34\, 30\, 31)\; ">Just scan the QR code to RSVP and let us know which class time works best for you!</span></span></span></h3>\n	<h3 style="color:red\;">\n		<br />\n		<span style="font-size:12px\;"><span style="font-family: arial\; "><span style="color: rgb(34\, 30\, 31)\; ">Think in the new &ldquo\;now.&rdquo\; Use experiential marketing to catch the market share of attention for your product\, service or organization. Learn how to build your marketing strategy as an opportunity to immerse the end user in your brand and allow them to carry the message forward. </span><span style="color: rgb(238\, 49\, 35)\; ">RSVP by calling 505.473.1300 or by emailing jrobinson@alphagraphics.com.</span></span></span></h3>\n</div>\n<div style="clear:both\;">\n	&nbsp\;</div>\n
LOCATION:Alphagraphics Santa Fe 2002-C Cerrillos Road Santa Fe 505.473.1300
UID:e.379.148
SEQUENCE:3
DTSTAMP:20260420T150238Z
URL:http://santafehispanicchamber.sampleorg.com/events/details/marketing-class-06-28-2012-148
END:VEVENT

END:VCALENDAR
