BEGIN:VCALENDAR
VERSION:2.0
PRODID:-//ChamberMaster//Event Calendar 2.0//EN
METHOD:PUBLISH
X-PUBLISHED-TTL:P3D
REFRESH-INTERVAL:P3D
CALSCALE:GREGORIAN
BEGIN:VEVENT
DTSTART:20090421T233000Z
DTEND:20090422T010000Z
X-MICROSOFT-CDO-ALLDAYEVENT:FALSE
SUMMARY:Members Connecting Members
DESCRIPTION:SFHCC MONTHLY NETWORKING MEETING\n Join Us \n for our Upcoming Networking EventTues April 21st @ 5:30pm Enjoy lively conversation\, meet new contacts and get re-acquainted with old ones. There will be several door prize drawing\, So come out and see what the SFHCC has to offer!   People are more likely to do business with and refer to someone they know\,   Si necesita mas informacion por favor comuniquese \n473-3080
X-ALT-DESC;FMTTYPE=text/html:<div>&nbsp\;</div><div align="center"><strong><font size="4">&nbsp\;SFHCC MONTHLY NETWORKING MEETING</font></strong></div><div><strong><font size="5"><div align="center"><br />&nbsp\;<font color="#008080" size="3">Join Us <br />&nbsp\;for our Upcoming Networking Event</font></div><div align="center"><font color="#008080" size="3">Tues April 21st @ 5:30pm</font></div><div align="center">&nbsp\;<font size="3">Enjoy lively conversation\, meet new contacts and get re-acquainted with old ones. There will be&nbsp\;several door prize drawing\, <font size="+0">So come out and see what the SFHCC has to offer!</font> </font></div><div align="center">&nbsp\;</div><strong><font size="5"><div align="center"><font size="3">&nbsp\;<font color="#008080">People are more likely to do business with and refer to someone they know\, </font></font></div><div align="center"><font color="#339966">&nbsp\;</font></div></font></strong></font></strong></div><div align="center"><div align="center">&nbsp\;</div><div align="center"><strong><font size="2">Si necesita mas informacion por favor comuniquese <br />473-3080</font></strong></div></div>
LOCATION:3347 Cerrillos RdLa Sierra Meeting Room
UID:e.379.26
SEQUENCE:3
DTSTAMP:20260423T053530Z
URL:http://santafehispanicchamber.sampleorg.com/events/details/members-connecting-members-04-21-2009-26
END:VEVENT

END:VCALENDAR
