BEGIN:VCALENDAR
VERSION:2.0
PRODID:-//ChamberMaster//Event Calendar 2.0//EN
METHOD:PUBLISH
X-PUBLISHED-TTL:P3D
REFRESH-INTERVAL:P3D
CALSCALE:GREGORIAN
BEGIN:VEVENT
DTSTART:20090721T233000Z
DTEND:20090722T010000Z
X-MICROSOFT-CDO-ALLDAYEVENT:FALSE
SUMMARY:Membership Meeting
DESCRIPTION:Santa Fe Hispanic Chamber of Commerce Monthly Meeting held at the Courtyard Marriott on Cerrillos Rd. in Santa Fe from 5:30 - 7:30 pmSpeaker is Susan Calafate Boyle from Argentina to speak on the "Role of Hispanos in the Economic Development of New Mexico in the 19th Century".  (Presentation in English/Espanol) Pick up your Spanish Market Reception Tickets
X-ALT-DESC;FMTTYPE=text/html:<h3>Santa Fe Hispanic Chamber of Commerce Monthly Meeting held at the Courtyard Marriott on Cerrillos Rd. in Santa Fe from 5:30 - 7:30 pm</h3><h3>Speaker&nbsp\;is Susan Calafate Boyle from Argentina to speak on the &quot\;Role of Hispanos in the Economic Development of New Mexico in&nbsp\;the 19th Century&quot\;.&nbsp\;&nbsp\;</h3><h3>(Presentation in English/Espanol)</h3><div>&nbsp\;</div><h3>Pick up your Spanish Market Reception Tickets</h3>
LOCATION:
UID:e.379.73
SEQUENCE:3
DTSTAMP:20260423T010746Z
URL:http://santafehispanicchamber.sampleorg.com/events/details/membership-meeting-07-21-2009-73
END:VEVENT

END:VCALENDAR
