BEGIN:VCALENDAR
VERSION:2.0
PRODID:-//ChamberMaster//Event Calendar 2.0//EN
METHOD:PUBLISH
X-PUBLISHED-TTL:P3D
REFRESH-INTERVAL:P3D
CALSCALE:GREGORIAN
BEGIN:VEVENT
DTSTART:20121018T233000Z
DTEND:20121019T010000Z
X-MICROSOFT-CDO-ALLDAYEVENT:FALSE
SUMMARY:Membership/Networking Event
DESCRIPTION:Great networking opportunity and check out the First National Bank remodel!
X-ALT-DESC;FMTTYPE=text/html:Great networking opportunity and check out the First National Bank remodel!
LOCATION:First National Bank of Santa Fe Main Office on the Plaza 62 Lincoln Avenue Santa Fe\, NM
UID:e.379.150
SEQUENCE:3
DTSTAMP:20260420T091354Z
URL:http://santafehispanicchamber.sampleorg.com/events/details/membership-networking-event-10-18-2012-150
END:VEVENT

END:VCALENDAR
