BEGIN:VCALENDAR
VERSION:2.0
PRODID:-//ChamberMaster//Event Calendar 2.0//EN
METHOD:PUBLISH
X-PUBLISHED-TTL:P3D
REFRESH-INTERVAL:P3D
CALSCALE:GREGORIAN
BEGIN:VEVENT
DTSTART:20081117T153000Z
DTEND:20081117T233000Z
X-MICROSOFT-CDO-ALLDAYEVENT:FALSE
SUMMARY:Microsoft Outlook Training ''Take Back your Life''
DESCRIPTION:Presented By: McGhee Productivity SolutionsPatricia Heyman\, Consultant R.S.V.P @ 505-473-3080
X-ALT-DESC;FMTTYPE=text/html:<div style="margin: 0in 0in 0pt\; line-height: normal" align="center"><span style="font-size: 13pt"><font size="2">Presented By: McGhee Productivity Solutions</font></span></div><div style="margin: 0in 0in 0pt\; line-height: normal" align="center"><font size="1"><span style="font-size: 13pt"><font size="2">Patricia Heyman\, Consultant</font></span>&nbsp\;</font></div><div style="margin: 0in 0in 6pt\; line-height: normal" align="center"><span style="font-size: 13pt"><font size="2">R.S.V.P @ 505-473-3080</font></span></div>
LOCATION:The Lodge @ Santa Fe(Old Radisson on the Hill)
UID:e.379.10
SEQUENCE:3
DTSTAMP:20260423T132907Z
URL:http://santafehispanicchamber.sampleorg.com/events/details/microsoft-outlook-training-take-back-your-life-11-17-2008-10
END:VEVENT

END:VCALENDAR
