BEGIN:VCALENDAR
VERSION:2.0
PRODID:-//ChamberMaster//Event Calendar 2.0//EN
METHOD:PUBLISH
X-PUBLISHED-TTL:P3D
REFRESH-INTERVAL:P3D
CALSCALE:GREGORIAN
BEGIN:VEVENT
DTSTART:20100217T003000Z
DTEND:20100217T023000Z
X-MICROSOFT-CDO-ALLDAYEVENT:FALSE
SUMMARY:Monthly Membership Meeting
DESCRIPTION:General Membership Meeting on February 16\, 2010. Come join us for the this years' Board of Directors elections and  announcement of our upcoming events.   Do you want to meet potential clients or build strong entrepreneurial alliances? \n\nIf so\, Stop by after work\, bring a coworker\,  a friend(s) and/or your spouse for a delightful networking opportunity that is sure to benefit the growth of your company.
X-ALT-DESC;FMTTYPE=text/html:<div><strong><font size="4">General Membership Meeting on&nbsp\;February 16\, 2010. Come join us for the&nbsp\;this years'&nbsp\;Board of Directors elections and&nbsp\; announcement of our upcoming events.&nbsp\; </font></strong><div style="text-align: left">&nbsp\;</div><div style="text-align: left"><span style="font-size: medium"><span style="color: #ff0000"><strong>Do you want to meet potential clients or build strong entrepreneurial alliances? <br /><br /></strong></span><span style="color: #008080"><strong><u>If so\,&nbsp\;Stop by after work\, bring a coworker\,&nbsp\; a friend(s) and/or your spouse for a delightful networking opportunity </u></strong><u><span style="color: #008080"><strong>that is</strong></span></u><strong><u><span style="color: #008080"> sure to benefit the growth of your company</span></u><span style="color: #339966">.</span></strong></span></span></div></div>
LOCATION:3347 Cerrillos RdSanta Fe NM
UID:e.379.88
SEQUENCE:3
DTSTAMP:20260422T135642Z
URL:http://santafehispanicchamber.sampleorg.com/events/details/monthly-membership-meeting-02-16-2010-88
END:VEVENT

END:VCALENDAR
