BEGIN:VCALENDAR
VERSION:2.0
PRODID:-//ChamberMaster//Event Calendar 2.0//EN
METHOD:PUBLISH
X-PUBLISHED-TTL:P3D
REFRESH-INTERVAL:P3D
CALSCALE:GREGORIAN
BEGIN:VEVENT
DTSTART:20100817T233000Z
DTEND:20100818T010000Z
X-MICROSOFT-CDO-ALLDAYEVENT:FALSE
SUMMARY:Monthly Membership & Networking
DESCRIPTION:Monthly Membership & NetworkingMeet our new Board Members:     Julie Roybal Robinson\, Owner\, Alphagraphics    Benjamin Chavarria\, Jr.\, City of Santa Fe Officer Meet our new Members:  New Mexico Bank & Trust\, Santa Fe  Directax\, Rudy Robles\, Owner  Los Girasoles\, Maria Jose de Ayala\, Owner
X-ALT-DESC;FMTTYPE=text/html:<div>Monthly Membership &amp\;&nbsp\;Networking</div><div><strong>Meet our new Board Members: </strong></div><div>&nbsp\;&nbsp\;&nbsp\;<em> Julie Roybal Robinson\, Owner\, Alphagraphics</em></div><div>&nbsp\;&nbsp\;&nbsp\; <em>Benjamin Chavarria\, Jr.\, City of Santa Fe Officer</em></div><div>&nbsp\;</div><div><strong>Meet our new Members:</strong></div><div>&nbsp\; <em>New Mexico Bank &amp\; Trust\, Santa Fe</em></div><div><em>&nbsp\; Directax\, Rudy Robles\, Owner</em></div><div><em>&nbsp\; Los Girasoles\, Maria Jose de Ayala\, Owner</em></div><div><em>&nbsp\; </em></div><div>&nbsp\;</div>
LOCATION:Tomasita's Restaurant500 S. Guadalupe Santa Fe\, NM
UID:e.379.109
SEQUENCE:3
DTSTAMP:20260422T041552Z
URL:http://santafehispanicchamber.sampleorg.com/events/details/monthly-membership-networking-08-17-2010-109
END:VEVENT

END:VCALENDAR
