BEGIN:VCALENDAR
VERSION:2.0
PRODID:-//ChamberMaster//Event Calendar 2.0//EN
METHOD:PUBLISH
X-PUBLISHED-TTL:P3D
REFRESH-INTERVAL:P3D
CALSCALE:GREGORIAN
BEGIN:VEVENT
DTSTART:20110922T233000Z
DTEND:20110923T013000Z
X-MICROSOFT-CDO-ALLDAYEVENT:FALSE
SUMMARY:Monthly Membership & Networking
DESCRIPTION:Monthly Membership & Networking\n\n	\n\n	Hispanic Heritage Month \n\n	 \n\n	Santa FeHispanic Chamber of Commerce Event\n\n	September 22nd 5:30   7:30 PM\n\n	 \n\n	Hosted by Mike Baca General Manager of \n\n	Baillio's Electronics & Appliances\n\n	3294 Cerrillos Rd  Santa Fe   (505) 438-3039\n\n	 \n\n	Catering by Tortilla Flats \n\n	 \n\n	Theme "Giving Back"\n\n	Presenting Customer Loyalty and Buying Locally Baillio's Officers\n\n	 \n\n	Thank you certificates presented to local volunteers\n\n	 \n\n	Quick Introduction of Ray Henderson Capital High teacher and lead for the Business Academy at Capital with information table and brochures \n\n	 \n\n	Table of Spanish Market Award Winning Art - Byron Martinez\n\n	 \n\n	Reception Table for joining the Chamber \n\n	\n\n	 \n\n	Meet our new Members:\n\n	\n		\n			\n				\n					Member Name\n				\n					LocalPhone\n				\n					Email\n				\n					Address1\n				\n					City\n				\n					PrimaryRep\n			\n			\n				\n					Santa Fe Harley-Davidson\n				\n					(505) 471-3808\n				\n					Danny@Santafeharley.com\n				\n					4360 Rodeo Road\n				\n					Santa Fe\n				\n					Danny Spurlock\n			\n			\n				\n					Citizen Schools\n				\n					(505) 265-4332\n				\n					lauravaldo@citizenschools.org\n				\n					1420 Carlisle Blvd.\n				\n					Albuquerque\n				\n					Laura Valdo\n			\n			\n				\n					Coco Martinez\n				\n					(505) 316-3885\n				\n					cocovan60@cybermesa.com\n				\n					1118 Richards Ave.\n				\n					Santa Fe\n				\n					Coco Martinez\n			\n			\n				\n					Design Enginuity\n				\n					(505) 989-3557\n				\n					oralynn@designenginuity.biz\n				\n					PO Box  2758\n				\n					Santa Fe\n				\n					Oralynn Guerrerortiz\n			\n			\n				\n					El Campanario Restaurant\n				\n					(505) 474-4300\n				\n					yensi328@aol.com\n				\n					3136 Cerrillos Road\n				\n					Santa Fe\n				\n					Anna Olivas\n			\n			\n				\n					Santa Ana Skin Care Clinic\n				\n					(505) 954-4422\n				\n					nonamd@swcp.com\n				\n					2205 Miguel Chavez\n				\n					Santa Fe\n				\n					Leonora Lopez\n			\n			\n				\n					Santa Fe Computer Supplies\, Inc.\n				\n					(505) 471-5308\n				\n					doris@santafecs.com\n				\n					PO Box 15756\n				\n					Santa Fe\n				\n					Doris Vigil McBride\n			\n			\n				\n					Southwest Funding\n				\n					(505) 660-6235\n				\n					bgallegos@southwestfunding.com\n				\n					1301 St. Francis Drive\n				\n					Santa Fe\n				\n					Brad Gallegos\n			\n			\n				\n					Tiny's Restaurant & Bar\n				\n					(505) 983-9817\n				\n					 \n				\n					1005 St. Francis Drive\n				\n					Santa Fe\n				\n					J.R. Palermo\n			\n			\n				\n					Connie Young's Real Estate Company\n				\n					(505) 820-3525\n				\n					youngconnieyoung@yahoo.com\n				\n					1574 Wilderness Gate\n				\n					Santa Fe\n				\n					Connie Young\n			\n			\n				\n					KSWV AM 810 Que Suave Radio\n				\n					(505) 989-7441\n				\n					pat@kswvradio.com\n				\n					102 Taos St\n				\n					Santa Fe\n				\n					Patricio Gonzales\n			\n			\n				\n					MSJ Bridal Boutique & Event Center\n				\n					(505) 438-0535\n				\n					mansboutique09@comcast.net\n				\n					4350 Airport Road\n				\n					Santa Fe\n				\n					Maribel Cardona\n			\n			\n				\n					Northwestern Mutual Financial Network\n				\n					(505) 872-7878\n				\n					steven.trujillo@nmfn.com\n				\n					8220 San Pedro NE\n				\n					Albuquerque\n				\n					Steven Trujillo\n			\n			\n				\n					KAI Sushi & Dining\n				\n					(505) 438-7221\n				\n					 \n				\n					720 St. Michaels Drive\n				\n					Santa Fe\n				\n					Brenda Rivera\n			\n			\n				\n					Devino Diamonds & Jewels\n				\n					(505) 983-9696\n				\n					goldhousesantafe@aol.com\n				\n					60 E. San Francisco\n				\n					Santa Fe\n				\n					Frank Shaw
X-ALT-DESC;FMTTYPE=text/html:<div>\n	<span style="font-size: 22px">Monthly Membership &amp\;&nbsp\;Networking</span></div>\n<div>\n	<br />\n	<span style="color: #0000ff"><span style="font-size: 10pt"><span style="font-family: book antiqua"><span style="font-size: 20px">Hispanic Heritage Month</span>&nbsp\;</span></span></span><br />\n	&nbsp\;<br />\n	<span style="color: #4b0082"><span style="font-size: 20px"><strong><span style="font-family: tahoma">Santa Fe</span></strong><strong><span style="font-family: tahoma">Hispanic Chamber of Commerce Event</span></strong><br />\n	<span style="font-family: tahoma">September 22<sup>nd</sup> 5:30 &ndash\; 7:30 PM</span><br />\n	&nbsp\;<br />\n	<span style="font-family: tahoma">Hosted by Mike Baca General Manager of </span><br />\n	<span style="font-family: tahoma">Baillio&#39\;s Electronics &amp\; Appliances</span><br />\n	<span style="font-family: tahoma">3294 Cerrillos Rd</span><span style="font-family: tahoma">&middot\; Santa Fe &middot\; (505) 438-3039</span><br />\n	&nbsp\;<br />\n	<span style="font-family: tahoma">Catering by Tortilla Flats </span><br />\n	&nbsp\;<br />\n	<span style="font-family: tahoma">Theme &ldquo\;Giving Back&rdquo\;</span><br />\n	<span style="font-family: tahoma">Presenting <em>Customer Loyalty and Buying Locally</em> Baillio&rsquo\;s Officers</span><br />\n	&nbsp\;<br />\n	<span style="font-family: tahoma">Thank you certificates presented to local volunteers</span><br />\n	&nbsp\;<br />\n	<span style="font-family: tahoma">Quick Introduction of Ray Henderson Capital High teacher and lead for the Business Academy at Capital with information table and brochures </span><br />\n	&nbsp\;<br />\n	<span style="font-family: tahoma">Table of Spanish Market Award Winning Art - Byron Martinez</span><br />\n	&nbsp\;<br />\n	<span style="font-family: tahoma">Reception Table for joining the Chamber&nbsp\;</span></span></span><br />\n	<br />\n	&nbsp\;</div>\n<div>\n	<span style="font-size: 18px"><strong>Meet our new Members:</strong></span></div>\n<div>\n	<table border="0" cellpadding="0" cellspacing="0" style="width: 887px\; border-collapse: collapse" width="890" x:str="">\n		<tbody>\n			<tr height="18" style="height: 18px">\n				<td height="18" style="border-bottom: windowtext 0.5pt solid\; border-left: windowtext\; width: 241px\; height: 18px\; border-top: windowtext\; border-right: windowtext">\n					Member Name</td>\n				<td style="border-bottom: windowtext 0.5pt solid\; border-left: windowtext\; width: 103px\; border-top: windowtext\; border-right: windowtext">\n					LocalPhone</td>\n				<td style="border-bottom: windowtext 0.5pt solid\; border-left: windowtext\; width: 201px\; border-top: windowtext\; border-right: windowtext">\n					Email</td>\n				<td style="border-bottom: windowtext 0.5pt solid\; border-left: windowtext\; width: 137px\; border-top: windowtext\; border-right: windowtext">\n					Address1</td>\n				<td style="border-bottom: windowtext 0.5pt solid\; border-left: windowtext\; width: 79px\; border-top: windowtext\; border-right: windowtext">\n					City</td>\n				<td style="border-bottom: windowtext 0.5pt solid\; border-left: windowtext\; width: 125px\; border-top: windowtext\; border-right: windowtext">\n					PrimaryRep</td>\n			</tr>\n			<tr height="18" style="height: 18px">\n				<td height="18" style="border-bottom: windowtext\; border-left: windowtext\; height: 18px\; border-top: windowtext\; border-right: windowtext">\n					Santa Fe Harley-Davidson</td>\n				<td style="border-bottom: windowtext\; border-left: windowtext\; border-top: windowtext\; border-right: windowtext">\n					(505) 471-3808</td>\n				<td style="border-bottom: windowtext\; border-left: windowtext\; border-top: windowtext\; border-right: windowtext">\n					Danny@Santafeharley.com</td>\n				<td style="border-bottom: windowtext\; border-left: windowtext\; border-top: windowtext\; border-right: windowtext">\n					4360 Rodeo Road</td>\n				<td style="border-bottom: windowtext\; border-left: windowtext\; border-top: windowtext\; border-right: windowtext">\n					Santa Fe</td>\n				<td style="border-bottom: windowtext\; border-left: windowtext\; border-top: windowtext\; border-right: windowtext">\n					Danny Spurlock</td>\n			</tr>\n			<tr height="18" style="height: 18px">\n				<td height="18" style="border-bottom: windowtext\; border-left: windowtext\; height: 18px\; border-top: windowtext\; border-right: windowtext">\n					Citizen Schools</td>\n				<td style="border-bottom: windowtext\; border-left: windowtext\; border-top: windowtext\; border-right: windowtext">\n					(505) 265-4332</td>\n				<td style="border-bottom: windowtext\; border-left: windowtext\; border-top: windowtext\; border-right: windowtext">\n					lauravaldo@citizenschools.org</td>\n				<td style="border-bottom: windowtext\; border-left: windowtext\; border-top: windowtext\; border-right: windowtext">\n					1420 Carlisle Blvd.</td>\n				<td style="border-bottom: windowtext\; border-left: windowtext\; border-top: windowtext\; border-right: windowtext">\n					Albuquerque</td>\n				<td style="border-bottom: windowtext\; border-left: windowtext\; border-top: windowtext\; border-right: windowtext">\n					Laura Valdo</td>\n			</tr>\n			<tr height="18" style="height: 18px">\n				<td height="18" style="border-bottom: windowtext\; border-left: windowtext\; height: 18px\; border-top: windowtext\; border-right: windowtext">\n					Coco Martinez</td>\n				<td style="border-bottom: windowtext\; border-left: windowtext\; border-top: windowtext\; border-right: windowtext">\n					(505) 316-3885</td>\n				<td style="border-bottom: windowtext\; border-left: windowtext\; border-top: windowtext\; border-right: windowtext">\n					cocovan60@cybermesa.com</td>\n				<td style="border-bottom: windowtext\; border-left: windowtext\; border-top: windowtext\; border-right: windowtext">\n					1118 Richards Ave.</td>\n				<td style="border-bottom: windowtext\; border-left: windowtext\; border-top: windowtext\; border-right: windowtext">\n					Santa Fe</td>\n				<td style="border-bottom: windowtext\; border-left: windowtext\; border-top: windowtext\; border-right: windowtext">\n					Coco Martinez</td>\n			</tr>\n			<tr height="18" style="height: 18px">\n				<td height="18" style="border-bottom: windowtext\; border-left: windowtext\; height: 18px\; border-top: windowtext\; border-right: windowtext">\n					Design Enginuity</td>\n				<td style="border-bottom: windowtext\; border-left: windowtext\; border-top: windowtext\; border-right: windowtext">\n					(505) 989-3557</td>\n				<td style="border-bottom: windowtext\; border-left: windowtext\; border-top: windowtext\; border-right: windowtext">\n					oralynn@designenginuity.biz</td>\n				<td style="border-bottom: windowtext\; border-left: windowtext\; border-top: windowtext\; border-right: windowtext">\n					PO Box&nbsp\; 2758</td>\n				<td style="border-bottom: windowtext\; border-left: windowtext\; border-top: windowtext\; border-right: windowtext">\n					Santa Fe</td>\n				<td style="border-bottom: windowtext\; border-left: windowtext\; border-top: windowtext\; border-right: windowtext">\n					Oralynn Guerrerortiz</td>\n			</tr>\n			<tr height="18" style="height: 18px">\n				<td height="18" style="border-bottom: windowtext\; border-left: windowtext\; height: 18px\; border-top: windowtext\; border-right: windowtext">\n					El Campanario Restaurant</td>\n				<td style="border-bottom: windowtext\; border-left: windowtext\; border-top: windowtext\; border-right: windowtext">\n					(505) 474-4300</td>\n				<td style="border-bottom: windowtext\; border-left: windowtext\; border-top: windowtext\; border-right: windowtext">\n					yensi328@aol.com</td>\n				<td style="border-bottom: windowtext\; border-left: windowtext\; border-top: windowtext\; border-right: windowtext">\n					3136 Cerrillos Road</td>\n				<td style="border-bottom: windowtext\; border-left: windowtext\; border-top: windowtext\; border-right: windowtext">\n					Santa Fe</td>\n				<td style="border-bottom: windowtext\; border-left: windowtext\; border-top: windowtext\; border-right: windowtext">\n					Anna Olivas</td>\n			</tr>\n			<tr height="18" style="height: 18px">\n				<td height="18" style="border-bottom: windowtext\; border-left: windowtext\; height: 18px\; border-top: windowtext\; border-right: windowtext">\n					Santa Ana Skin Care Clinic</td>\n				<td style="border-bottom: windowtext\; border-left: windowtext\; border-top: windowtext\; border-right: windowtext">\n					(505) 954-4422</td>\n				<td style="border-bottom: windowtext\; border-left: windowtext\; border-top: windowtext\; border-right: windowtext">\n					nonamd@swcp.com</td>\n				<td style="border-bottom: windowtext\; border-left: windowtext\; border-top: windowtext\; border-right: windowtext">\n					2205 Miguel Chavez</td>\n				<td style="border-bottom: windowtext\; border-left: windowtext\; border-top: windowtext\; border-right: windowtext">\n					Santa Fe</td>\n				<td style="border-bottom: windowtext\; border-left: windowtext\; border-top: windowtext\; border-right: windowtext">\n					Leonora Lopez</td>\n			</tr>\n			<tr height="18" style="height: 18px">\n				<td height="18" style="border-bottom: windowtext\; border-left: windowtext\; height: 18px\; border-top: windowtext\; border-right: windowtext">\n					Santa Fe Computer Supplies\, Inc.</td>\n				<td style="border-bottom: windowtext\; border-left: windowtext\; border-top: windowtext\; border-right: windowtext">\n					(505) 471-5308</td>\n				<td style="border-bottom: windowtext\; border-left: windowtext\; border-top: windowtext\; border-right: windowtext">\n					doris@santafecs.com</td>\n				<td style="border-bottom: windowtext\; border-left: windowtext\; border-top: windowtext\; border-right: windowtext">\n					PO Box 15756</td>\n				<td style="border-bottom: windowtext\; border-left: windowtext\; border-top: windowtext\; border-right: windowtext">\n					Santa Fe</td>\n				<td style="border-bottom: windowtext\; border-left: windowtext\; border-top: windowtext\; border-right: windowtext">\n					Doris Vigil McBride</td>\n			</tr>\n			<tr height="18" style="height: 18px">\n				<td height="18" style="border-bottom: windowtext\; border-left: windowtext\; height: 18px\; border-top: windowtext\; border-right: windowtext">\n					Southwest Funding</td>\n				<td style="border-bottom: windowtext\; border-left: windowtext\; border-top: windowtext\; border-right: windowtext">\n					(505) 660-6235</td>\n				<td style="border-bottom: windowtext\; border-left: windowtext\; border-top: windowtext\; border-right: windowtext">\n					bgallegos@southwestfunding.com</td>\n				<td style="border-bottom: windowtext\; border-left: windowtext\; border-top: windowtext\; border-right: windowtext">\n					1301 St. Francis Drive</td>\n				<td style="border-bottom: windowtext\; border-left: windowtext\; border-top: windowtext\; border-right: windowtext">\n					Santa Fe</td>\n				<td style="border-bottom: windowtext\; border-left: windowtext\; border-top: windowtext\; border-right: windowtext">\n					Brad Gallegos</td>\n			</tr>\n			<tr height="18" style="height: 18px">\n				<td height="18" style="border-bottom: windowtext\; border-left: windowtext\; height: 18px\; border-top: windowtext\; border-right: windowtext">\n					Tiny&#39\;s Restaurant &amp\; Bar</td>\n				<td style="border-bottom: windowtext\; border-left: windowtext\; border-top: windowtext\; border-right: windowtext">\n					(505) 983-9817</td>\n				<td style="border-bottom: windowtext\; border-left: windowtext\; border-top: windowtext\; border-right: windowtext">\n					&nbsp\;</td>\n				<td style="border-bottom: windowtext\; border-left: windowtext\; border-top: windowtext\; border-right: windowtext">\n					1005 St. Francis Drive</td>\n				<td style="border-bottom: windowtext\; border-left: windowtext\; border-top: windowtext\; border-right: windowtext">\n					Santa Fe</td>\n				<td style="border-bottom: windowtext\; border-left: windowtext\; border-top: windowtext\; border-right: windowtext">\n					J.R. Palermo</td>\n			</tr>\n			<tr height="18" style="height: 18px">\n				<td height="18" style="border-bottom: windowtext\; border-left: windowtext\; height: 18px\; border-top: windowtext\; border-right: windowtext">\n					Connie Young&#39\;s Real Estate Company</td>\n				<td style="border-bottom: windowtext\; border-left: windowtext\; border-top: windowtext\; border-right: windowtext">\n					(505) 820-3525</td>\n				<td style="border-bottom: windowtext\; border-left: windowtext\; border-top: windowtext\; border-right: windowtext">\n					youngconnieyoung@yahoo.com</td>\n				<td style="border-bottom: windowtext\; border-left: windowtext\; border-top: windowtext\; border-right: windowtext">\n					1574 Wilderness Gate</td>\n				<td style="border-bottom: windowtext\; border-left: windowtext\; border-top: windowtext\; border-right: windowtext">\n					Santa Fe</td>\n				<td style="border-bottom: windowtext\; border-left: windowtext\; border-top: windowtext\; border-right: windowtext">\n					Connie Young</td>\n			</tr>\n			<tr height="18" style="height: 18px">\n				<td height="18" style="border-bottom: windowtext\; border-left: windowtext\; height: 18px\; border-top: windowtext\; border-right: windowtext">\n					KSWV AM 810 Que Suave Radio</td>\n				<td style="border-bottom: windowtext\; border-left: windowtext\; border-top: windowtext\; border-right: windowtext">\n					(505) 989-7441</td>\n				<td style="border-bottom: windowtext\; border-left: windowtext\; border-top: windowtext\; border-right: windowtext">\n					pat@kswvradio.com</td>\n				<td style="border-bottom: windowtext\; border-left: windowtext\; border-top: windowtext\; border-right: windowtext">\n					102 Taos St</td>\n				<td style="border-bottom: windowtext\; border-left: windowtext\; border-top: windowtext\; border-right: windowtext">\n					Santa Fe</td>\n				<td style="border-bottom: windowtext\; border-left: windowtext\; border-top: windowtext\; border-right: windowtext">\n					Patricio Gonzales</td>\n			</tr>\n			<tr height="18" style="height: 18px">\n				<td height="18" style="border-bottom: windowtext\; border-left: windowtext\; height: 18px\; border-top: windowtext\; border-right: windowtext">\n					MSJ Bridal Boutique &amp\; Event Center</td>\n				<td style="border-bottom: windowtext\; border-left: windowtext\; border-top: windowtext\; border-right: windowtext">\n					(505) 438-0535</td>\n				<td style="border-bottom: windowtext\; border-left: windowtext\; border-top: windowtext\; border-right: windowtext">\n					mansboutique09@comcast.net</td>\n				<td style="border-bottom: windowtext\; border-left: windowtext\; border-top: windowtext\; border-right: windowtext">\n					4350 Airport Road</td>\n				<td style="border-bottom: windowtext\; border-left: windowtext\; border-top: windowtext\; border-right: windowtext">\n					Santa Fe</td>\n				<td style="border-bottom: windowtext\; border-left: windowtext\; border-top: windowtext\; border-right: windowtext">\n					Maribel Cardona</td>\n			</tr>\n			<tr height="18" style="height: 18px">\n				<td height="18" style="border-bottom: windowtext\; border-left: windowtext\; height: 18px\; border-top: windowtext\; border-right: windowtext">\n					Northwestern Mutual Financial Network</td>\n				<td style="border-bottom: windowtext\; border-left: windowtext\; border-top: windowtext\; border-right: windowtext">\n					(505) 872-7878</td>\n				<td style="border-bottom: windowtext\; border-left: windowtext\; border-top: windowtext\; border-right: windowtext">\n					steven.trujillo@nmfn.com</td>\n				<td style="border-bottom: windowtext\; border-left: windowtext\; border-top: windowtext\; border-right: windowtext">\n					8220 San Pedro NE</td>\n				<td style="border-bottom: windowtext\; border-left: windowtext\; border-top: windowtext\; border-right: windowtext">\n					Albuquerque</td>\n				<td style="border-bottom: windowtext\; border-left: windowtext\; border-top: windowtext\; border-right: windowtext">\n					Steven Trujillo</td>\n			</tr>\n			<tr height="18" style="height: 18px">\n				<td height="18" style="border-bottom: windowtext\; border-left: windowtext\; height: 18px\; border-top: windowtext\; border-right: windowtext">\n					KAI Sushi &amp\; Dining</td>\n				<td style="border-bottom: windowtext\; border-left: windowtext\; border-top: windowtext\; border-right: windowtext">\n					(505) 438-7221</td>\n				<td style="border-bottom: windowtext\; border-left: windowtext\; border-top: windowtext\; border-right: windowtext">\n					&nbsp\;</td>\n				<td style="border-bottom: windowtext\; border-left: windowtext\; border-top: windowtext\; border-right: windowtext">\n					720 St. Michaels Drive</td>\n				<td style="border-bottom: windowtext\; border-left: windowtext\; border-top: windowtext\; border-right: windowtext">\n					Santa Fe</td>\n				<td style="border-bottom: windowtext\; border-left: windowtext\; border-top: windowtext\; border-right: windowtext">\n					Brenda Rivera</td>\n			</tr>\n			<tr height="18" style="height: 18px">\n				<td height="18" style="border-bottom: windowtext\; border-left: windowtext\; height: 18px\; border-top: windowtext\; border-right: windowtext">\n					Devino Diamonds &amp\; Jewels</td>\n				<td style="border-bottom: windowtext\; border-left: windowtext\; border-top: windowtext\; border-right: windowtext">\n					(505) 983-9696</td>\n				<td style="border-bottom: blue\; border-left: blue\; border-top: blue\; border-right: blue">\n					<a href="mailto:goldhousesantafe@aol.com">goldhousesantafe@aol.com</a></td>\n				<td style="border-bottom: windowtext\; border-left: windowtext\; border-top: windowtext\; border-right: windowtext">\n					60 E. San Francisco</td>\n				<td style="border-bottom: windowtext\; border-left: windowtext\; border-top: windowtext\; border-right: windowtext">\n					Santa Fe</td>\n				<td style="border-bottom: windowtext\; border-left: windowtext\; border-top: windowtext\; border-right: windowtext">\n					Frank Shaw&nbsp\;</td>\n			</tr>\n		</tbody>\n		<colgroup>\n			<col style="width: 241px" />\n			<col style="width: 103px" />\n			<col style="width: 201px" />\n			<col style="width: 137px" />\n			<col style="width: 79px" />\n			<col style="width: 125px" />\n		</colgroup>\n	</table>\n</div>\n
LOCATION:Baillio's Electronics & Appliances 3294 Cerrillos Road Santa Fe\, NM (505)438-3039
UID:e.379.134
SEQUENCE:3
DTSTAMP:20260421T053357Z
URL:http://santafehispanicchamber.sampleorg.com/events/details/monthly-membership-networking-09-22-2011-134
END:VEVENT

END:VCALENDAR
