BEGIN:VCALENDAR
VERSION:2.0
PRODID:-//ChamberMaster//Event Calendar 2.0//EN
METHOD:PUBLISH
X-PUBLISHED-TTL:P3D
REFRESH-INTERVAL:P3D
CALSCALE:GREGORIAN
BEGIN:VEVENT
DTSTART:20121129T003000Z
DTEND:20121129T023000Z
X-MICROSOFT-CDO-ALLDAYEVENT:FALSE
SUMMARY:Monthly Membership & Networking
DESCRIPTION:Save the Date:\n\n	November Monthly Membership & Networking Meeting!\n\n	Hosted by Guadalupe Gredit Union and Featuring SFPS Superintendent Joel Boyd
X-ALT-DESC;FMTTYPE=text/html:<div>\n	<span style="font-size: 22px">Save the Date:<br />\n	November Monthly Membership &amp\;&nbsp\;Networking Meeting!<br />\n	Hosted by Guadalupe Gredit Union and Featuring SFPS&nbsp\;Superintendent Joel Boyd</span></div>\n
LOCATION:Guadalupe Credit Union on Airport Road
UID:e.379.151
SEQUENCE:3
DTSTAMP:20260420T075452Z
URL:http://santafehispanicchamber.sampleorg.com/events/details/monthly-membership-networking-11-28-2012-151
END:VEVENT

END:VCALENDAR
