BEGIN:VCALENDAR
VERSION:2.0
PRODID:-//ChamberMaster//Event Calendar 2.0//EN
METHOD:PUBLISH
X-PUBLISHED-TTL:P3D
REFRESH-INTERVAL:P3D
CALSCALE:GREGORIAN
BEGIN:VEVENT
DTSTART:20081021T233000Z
DTEND:20081022T010000Z
X-MICROSOFT-CDO-ALLDAYEVENT:FALSE
SUMMARY:Monthly Santa Fe Hispanic Chamber of Commerce meeting and networking
DESCRIPTION:Monthly SFHCC Meeting and Networking
X-ALT-DESC;FMTTYPE=text/html:<div><span class="cm_eventLinkLowEmphOut" onmouseover="this.className='cm_eventLinkLowEmphOvr'\;" onclick="javascript:viewEvent(6)\;" onmouseout="this.className='cm_eventLinkLowEmphOut'\;" alt="Monthly Santa Fe Hispanic Chamber of Commerce meeting and networking"><font size="3"><strong>Monthly SFHCC Meeting and Networking</strong></font></span></div>
LOCATION:The Lodge (Old Radisson on the Hill)750 N. St Francis Dr. SF NM 875501
UID:e.379.12
SEQUENCE:3
DTSTAMP:20260423T150243Z
URL:http://santafehispanicchamber.sampleorg.com/events/details/monthly-santa-fe-hispanic-chamber-of-commerce-meeting-and-networking-10-21-2008-12
END:VEVENT

END:VCALENDAR
