BEGIN:VCALENDAR
VERSION:2.0
PRODID:-//ChamberMaster//Event Calendar 2.0//EN
METHOD:PUBLISH
X-PUBLISHED-TTL:P3D
REFRESH-INTERVAL:P3D
CALSCALE:GREGORIAN
BEGIN:VEVENT
DTSTART:20090121T003000Z
DTEND:20090121T020000Z
X-MICROSOFT-CDO-ALLDAYEVENT:FALSE
SUMMARY:MONTHLY SFHCC MEETING & NETWORKING
DESCRIPTION:Business Networking and Membership MeetingJoin your Santa Fe Hispanic Chamber of Commerce and The Lodge at Santa Fe for the First Networking and Membership Meeting of 2009.  Network\, meet new business and see what your chamber is all about!A representative from the Santa Fe Public Schools will be at our meeting to brief the membership and respond to questions regarding the February 3\, 2009\, General Obligation Bond Election.   The representative will discuss Santa Fe Public Schools' facilities needs and long-range plans for addressing them through General Obligation funds (GO Bond).
X-ALT-DESC;FMTTYPE=text/html:<p>&nbsp\;</p><div><p class="style67"><u><strong><font size="4"><font color="#008080"><span>Business&nbsp\;Networking and Membership <mso:p></mso:p></span><span>Meeting</span></font></font></strong></u></p><p class="style67"><span><font size="3">Join your Santa Fe Hispanic Chamber of Commerce and The Lodge at Santa Fe for the First Networking and Membership Meeting of 2009.&nbsp\; Network\, meet new business and see what your chamber is all about!</font></span></p><p class="style67"><span><font size="4"><font size="3">A representative from the Santa Fe Public Schools will be at our meeting to brief the membership and respond to questions regarding the <em>F<em>ebruary 3\, 2009</em></em>\, General Obligation Bond Election. &nbsp\;&nbsp\;The representative will discuss Santa Fe Public Schools&rsquo\; facilities needs and long-range plans for addressing them through General Obligation funds (GO Bond).</font>&nbsp\;&nbsp\;</font></span></p></div><p>&nbsp\;</p><p>&nbsp\;</p>
LOCATION:750 N. St. Francis SF NM 87501
UID:e.379.14
SEQUENCE:3
DTSTAMP:20260423T114423Z
URL:http://santafehispanicchamber.sampleorg.com/events/details/monthly-sfhcc-meeting-networking-01-20-2009-14
END:VEVENT

END:VCALENDAR
