BEGIN:VCALENDAR
VERSION:2.0
PRODID:-//ChamberMaster//Event Calendar 2.0//EN
METHOD:PUBLISH
X-PUBLISHED-TTL:P3D
REFRESH-INTERVAL:P3D
CALSCALE:GREGORIAN
BEGIN:VEVENT
DTSTART:20090317T233000Z
DTEND:20090318T013000Z
X-MICROSOFT-CDO-ALLDAYEVENT:FALSE
SUMMARY:MONTHLY SFHCC MEETING & NETWORKING
DESCRIPTION:Business Networking and Membership MeetingJoin your Santa Fe Hispanic Chamber of Commerce and Courtyard Marriott for our monthly Networking and Membership Meeting.  Network\, meet new business and see what your chamber is all about!Featured Guest: TBA
X-ALT-DESC;FMTTYPE=text/html:<p><strong>&nbsp\;<u><font size="4"><font color="#008080"><span>Business&nbsp\;Networking and Membership <mso:p></mso:p></span><span>Meeting</span></font></font></u></strong></p><p><p class="style67"><span><font size="3">Join your Santa Fe Hispanic Chamber of Commerce and Courtyard Marriott for our monthly&nbsp\;Networking and Membership Meeting.&nbsp\; Network\, meet new business and see what your chamber is all about!</font></span></p><p class="style67"><span><font size="4"><font size="3">Featured Guest: TBA</font></font></span></p></p><p>&nbsp\;</p><p>&nbsp\;</p>
LOCATION:3347 Cerrillos Rd SF NM 87507
UID:e.379.20
SEQUENCE:3
DTSTAMP:20260423T072048Z
URL:http://santafehispanicchamber.sampleorg.com/events/details/monthly-sfhcc-meeting-networking-03-17-2009-20
END:VEVENT

END:VCALENDAR
