BEGIN:VCALENDAR
VERSION:2.0
PRODID:-//ChamberMaster//Event Calendar 2.0//EN
METHOD:PUBLISH
X-PUBLISHED-TTL:P3D
REFRESH-INTERVAL:P3D
CALSCALE:GREGORIAN
BEGIN:VEVENT
DTSTART:20090519T233000Z
DTEND:20090520T010000Z
X-MICROSOFT-CDO-ALLDAYEVENT:FALSE
SUMMARY:MONTHLY SFHCC MEETING & NETWORKING
DESCRIPTION:Join the SFHCC Tues. 19th at our monthly networking meeting.
X-ALT-DESC;FMTTYPE=text/html:<div>Join the SFHCC Tues. 19th at our monthly networking meeting.</div><div>&nbsp\;</div><div>&nbsp\;</div><div>&nbsp\;</div>
LOCATION:3347 Cerrillos Rd
UID:e.379.30
SEQUENCE:3
DTSTAMP:20260423T035322Z
URL:http://santafehispanicchamber.sampleorg.com/events/details/monthly-sfhcc-meeting-networking-05-19-2009-30
END:VEVENT

END:VCALENDAR
