BEGIN:VCALENDAR
VERSION:2.0
PRODID:-//ChamberMaster//Event Calendar 2.0//EN
METHOD:PUBLISH
X-PUBLISHED-TTL:P3D
REFRESH-INTERVAL:P3D
CALSCALE:GREGORIAN
BEGIN:VEVENT
DTSTART:20110811T233000Z
DTEND:20110812T010000Z
X-MICROSOFT-CDO-ALLDAYEVENT:FALSE
SUMMARY:MONTHLY SFHCC MEETING & NETWORKING
DESCRIPTION:Business Networking and Membership Meeting\n	\n		Join your Santa Fe Hispanic Chamber of Commerce at Augusts' Networking and Membership Meeting.  Network\, meet new businesses and see what your chamber is all about!\n\n		\n\n		Key Note Speaker will be David Griego\, Owner Santa Fe Goldworks.  \n	\n		\n			Santa Fe Goldworks and master goldsmith David Griego specializes in one-of-a-kind jewelry that brings a contemporary flair to ancient designs. Locally born and raised\, Griego established Santa Fe Goldworks in 1972 and over three decades has built the company's reputation with meticulously hand crafted custom inlay gold wedding rings and earrings\, pendants and charms adorned with diamonds\, turquoise\, lapis\, and Australian opals.
X-ALT-DESC;FMTTYPE=text/html:<p>\n	&nbsp\;</p>\n<div>\n	<p class="style67">\n		<u><strong><font size="4"><font color="#008080"><span>Business&nbsp\;Networking and Membership <mso:p></mso:p></span><span>Meeting</span></font></font></strong></u></p>\n	<p class="style67">\n		<span><font size="3">Join your Santa Fe Hispanic Chamber of Commerce at&nbsp\;Augusts&#39\;&nbsp\;Networking and Membership Meeting.&nbsp\; Network\, meet new businesses and see what your chamber is all about!<br />\n		<br />\n		<span style="font-size: 14px">Key Note Speaker will be David Griego\, Owner Santa Fe Goldworks.&nbsp\; </span></font></span></p>\n	<div align="left" dir="ltr">\n		<p class="gray_text">\n			<span style="font-size: 14px"><span><font color="#0000ff" face="Arial">Santa Fe Goldworks and master goldsmith David Griego specializes in one-of-a-kind jewelry that brings a contemporary flair&nbsp\;to ancient designs. Locally born and raised\, Griego established Santa Fe Goldworks in 1972 and over three decades has built&nbsp\;the company&rsquo\;s reputation with meticulously hand crafted custom inlay gold wedding rings and earrings\, pendants and charms adorned with diamonds\, turquoise\, lapis\, and Australian opals.</font></span></span></p>\n	</div>\n	<p class="style67">\n		<br />\n		<span><font size="3"><span _fck_bookmark="1" style="display: none">&nbsp\;</span></font></span></p>\n	<p class="style67">\n		<span style="font-size: 14px">&nbsp\;</span></p>\n</div>\n<p>\n	<span style="font-size: 14px">&nbsp\;</span></p>\n<p>\n	<span style="font-size: 14px">&nbsp\;</span></p>\n
LOCATION:Santa Fe Goldworks 60 East San Francisco Street 505.983.4562
UID:e.379.131
SEQUENCE:3
DTSTAMP:20260421T071104Z
URL:http://santafehispanicchamber.sampleorg.com/events/details/monthly-sfhcc-meeting-networking-08-11-2011-131
END:VEVENT

END:VCALENDAR
