BEGIN:VCALENDAR
VERSION:2.0
PRODID:-//ChamberMaster//Event Calendar 2.0//EN
METHOD:PUBLISH
X-PUBLISHED-TTL:P3D
REFRESH-INTERVAL:P3D
CALSCALE:GREGORIAN
BEGIN:VEVENT
DTSTART:20131017T230000Z
DTEND:20131018T010000Z
X-MICROSOFT-CDO-ALLDAYEVENT:FALSE
SUMMARY:MONTHLY SFHCC MEETING & NETWORKING
DESCRIPTION:Business Networking and Membership Meeting\n	\n		Join us at Ten Thousand Villages on October 17th!  The store is at 219 Galisteo Street and Trish Padilla would love to see you there. Come and get acquainted with the staff and the many treasures in the store. \n	\n		 \n	\n		The networking event is from 5pm to 7pm and during this time the store will donate 15% of all purchases to the Rising Stars non-profit program. Meet other business leaders and start your Holiday shopping early while helping support our local teens.
X-ALT-DESC;FMTTYPE=text/html:<p>\n	&nbsp\;</p>\n<div>\n	<p class="style67">\n		<u><strong><font size="4"><font color="#008080"><span>Business&nbsp\;Networking and Membership <mso:p></mso:p></span><span>Meeting</span></font></font></strong></u></p>\n	<p style="MARGIN-TOP: 0px\; MARGIN-BOTTOM: 0px">\n		<span style="font-size:18px\;"><strong>Join us at Ten Thousand Villages&nbsp\;on October 17th! &nbsp\;The store is&nbsp\;at 219 Galisteo Street and Trish Padilla would love to see you there. Come and get acquainted with the staff and the many treasures in the store.&nbsp\;</strong></span></p>\n	<p style="MARGIN-TOP: 0px\; MARGIN-BOTTOM: 0px">\n		&nbsp\;</p>\n	<p class="style67">\n		<span style="font-size:18px\;"><strong>The <em style="font-size: 12px\;">networking event is from 5pm to 7pm</em> and during this time the store will donate 15% of all purchases to the Rising Stars non-profit program. Meet other business leaders and start your Holiday shopping early while helping support our local teens.&nbsp\;</strong></span></p>\n</div>\n<br />\n
LOCATION:219 Galisteo Street\, SF NM 87501
UID:e.379.163
SEQUENCE:3
DTSTAMP:20260419T134811Z
URL:http://santafehispanicchamber.sampleorg.com/events/details/monthly-sfhcc-meeting-networking-10-17-2013-163
END:VEVENT

END:VCALENDAR
