BEGIN:VCALENDAR
VERSION:2.0
PRODID:-//ChamberMaster//Event Calendar 2.0//EN
METHOD:PUBLISH
X-PUBLISHED-TTL:P3D
REFRESH-INTERVAL:P3D
CALSCALE:GREGORIAN
BEGIN:VEVENT
DTSTART:20090414T233000Z
DTEND:20090415T010000Z
X-MICROSOFT-CDO-ALLDAYEVENT:FALSE
SUMMARY:NETWORK WITH THE ALLIANCE!
DESCRIPTION:Network and connect with fellow Alliance business and community members. Refreshments provided by the Housing Trust.  The Housing Trust is committed to helping residents of northern New Mexico find affordable housing by providing counseling\, training\, and financial assistance to first-time homeowners while working with banks and other housing agencies to obtain favorable mortgage financing.
X-ALT-DESC;FMTTYPE=text/html:<div><strong>Network</strong> and connect with fellow Alliance business and community members. Refreshments provided by the Housing Trust.&nbsp\;</div><div>&nbsp\;</div><div>The Housing Trust is committed to helping residents of northern New Mexico find affordable housing by providing counseling\, training\, and financial assistance to first-time homeowners while working with banks and other housing agencies to obtain favorable mortgage financing.</div>
LOCATION:The Housing Trust\,500 West San Francisco Street\,989-3960
UID:e.379.27
SEQUENCE:3
DTSTAMP:20260423T053628Z
URL:http://santafehispanicchamber.sampleorg.com/events/details/network-with-the-alliance-04-14-2009-27
END:VEVENT

END:VCALENDAR
