BEGIN:VCALENDAR
VERSION:2.0
PRODID:-//ChamberMaster//Event Calendar 2.0//EN
METHOD:PUBLISH
X-PUBLISHED-TTL:P3D
REFRESH-INTERVAL:P3D
CALSCALE:GREGORIAN
BEGIN:VEVENT
DTSTART:20100518T233000Z
DTEND:20100519T013000Z
X-MICROSOFT-CDO-ALLDAYEVENT:FALSE
SUMMARY:Networking Meeting
DESCRIPTION:Short presentation by Carmen Quintana\, a Land Grant Specialist\n\nNetworking with music by Miguel Romero\, Flamenco Guitarist\n\n\n\nAvailable: Spanish Market Reception Tickets\, July 21\, 2010
X-ALT-DESC;FMTTYPE=text/html:Short presentation by Carmen Quintana\, a Land Grant Specialist\n<br>Networking with music by Miguel Romero\, Flamenco Guitarist\n<br>\n<br>Available: Spanish Market Reception Tickets\, July 21\, 2010
LOCATION:Courtyard Marriott\, Santa Fe 3347 Cerrillos Road Santa Fe\, NM
UID:e.379.95
SEQUENCE:3
DTSTAMP:20260422T085451Z
URL:http://santafehispanicchamber.sampleorg.com/events/details/networking-meeting-05-18-2010-95
END:VEVENT

END:VCALENDAR
