BEGIN:VCALENDAR
VERSION:2.0
PRODID:-//ChamberMaster//Event Calendar 2.0//EN
METHOD:PUBLISH
X-PUBLISHED-TTL:P3D
REFRESH-INTERVAL:P3D
CALSCALE:GREGORIAN
BEGIN:VEVENT
DTSTART:20081119T003000Z
DTEND:20081119T021500Z
X-MICROSOFT-CDO-ALLDAYEVENT:FALSE
SUMMARY:November Networking Meeting
DESCRIPTION:Join us tonight:  Invited Speaker is Supreme Court Justice Patricio Serna
X-ALT-DESC;FMTTYPE=text/html:<div>Join us tonight:&nbsp\; Invited Speaker is Supreme Court Justice Patricio Serna</div>
LOCATION:The Lodge @ Santa Fe(Old Radisson on the Hill)
UID:e.379.7
SEQUENCE:3
DTSTAMP:20260423T132906Z
URL:http://santafehispanicchamber.sampleorg.com/events/details/november-networking-meeting-11-18-2008-7
END:VEVENT

END:VCALENDAR
