BEGIN:VCALENDAR
VERSION:2.0
PRODID:-//ChamberMaster//Event Calendar 2.0//EN
METHOD:PUBLISH
X-PUBLISHED-TTL:P3D
REFRESH-INTERVAL:P3D
CALSCALE:GREGORIAN
BEGIN:VEVENT
DTSTART:20131121T003000Z
DTEND:20131121T023000Z
X-MICROSOFT-CDO-ALLDAYEVENT:FALSE
SUMMARY:November Networking Meeting
DESCRIPTION:PLEASE join us and bring some friends November 20th. We will be at the Inn of the Governor's in the evening.  Meet our SFPS Superintendent Dr. Joel Boyd and learn more about the Secondary Education reform. We have a vested interest in our son's and daughter's education as they become tomorrow's work force.\n\n	 \n\n	It's time once again to ask for your help in supporting our local high school students.  We are collecting gently used business clothes at this event. The DECA club at Capital High has students that could use these clothes to dress for their business competition events. \n\n	 \n\n	Bring a friend\, this event is open to all.
X-ALT-DESC;FMTTYPE=text/html:<p style="MARGIN-TOP: 0px\; FONT-FAMILY: Tahoma\, Arial\, sans-serif\; MARGIN-BOTTOM: 0px\; FONT-SIZE: 10pt">\n	PLEASE join us and bring some friends November 20th. We will be at the Inn of the Governor&#39\;s in the evening.&nbsp\; Meet our SFPS Superintendent Dr. Joel Boyd and learn more about the Secondary Education reform. We have a vested interest in our son&#39\;s and daughter&#39\;s education as they become tomorrow&#39\;s work force.</p>\n<p style="MARGIN-TOP: 0px\; FONT-FAMILY: Tahoma\, Arial\, sans-serif\; MARGIN-BOTTOM: 0px\; FONT-SIZE: 10pt">\n	&nbsp\;</p>\n<p style="MARGIN-TOP: 0px\; FONT-FAMILY: Tahoma\, Arial\, sans-serif\; MARGIN-BOTTOM: 0px\; FONT-SIZE: 10pt">\n	It&#39\;s time once again to ask for your help in supporting our local high school students.&nbsp\; We are collecting gently used business clothes at this event. The DECA club at Capital High has students that could use these clothes to dress for their business competition events.&nbsp\;</p>\n<p style="MARGIN-TOP: 0px\; FONT-FAMILY: Tahoma\, Arial\, sans-serif\; MARGIN-BOTTOM: 0px\; FONT-SIZE: 10pt">\n	&nbsp\;</p>\n<p style="MARGIN-TOP: 0px\; FONT-FAMILY: Tahoma\, Arial\, sans-serif\; MARGIN-BOTTOM: 0px\; FONT-SIZE: 10pt">\n	Bring a friend\, this event is open to all.</p>\n
LOCATION:The Inn of the Governor's
UID:e.379.164
SEQUENCE:3
DTSTAMP:20260419T120519Z
URL:http://santafehispanicchamber.sampleorg.com/events/details/november-networking-meeting-11-20-2013-164
END:VEVENT

END:VCALENDAR
