BEGIN:VCALENDAR
VERSION:2.0
PRODID:-//ChamberMaster//Event Calendar 2.0//EN
METHOD:PUBLISH
X-PUBLISHED-TTL:P3D
REFRESH-INTERVAL:P3D
CALSCALE:GREGORIAN
BEGIN:VEVENT
DTSTART:20120629T000000Z
DTEND:20120629T010000Z
X-MICROSOFT-CDO-ALLDAYEVENT:FALSE
SUMMARY:Pre-Spanish Market Reception
DESCRIPTION:Join Us after the QR marketing class for a Pre-Spanish Market Reception!  Refreshments and lite Hors d 'Oeuvres will be served!
X-ALT-DESC;FMTTYPE=text/html:<h3 style="color:blue\;">\n	<span style="font-size:14px\;"><span style="font-family: 'comic sans ms'\; ">Join Us after the QR marketing class for a Pre-Spanish Market Reception! &nbsp\;Refreshments and lite Hors d &#39\;Oeuvres will be served!</span></span></h3>\n
LOCATION:Alphagraphics 2002 C Cerrillos Road Santa Fe\, NM 87505
UID:e.379.146
SEQUENCE:3
DTSTAMP:20260420T150237Z
URL:http://santafehispanicchamber.sampleorg.com/events/details/pre-spanish-market-reception-06-28-2012-146
END:VEVENT

END:VCALENDAR
