BEGIN:VCALENDAR
VERSION:2.0
PRODID:-//ChamberMaster//Event Calendar 2.0//EN
METHOD:PUBLISH
X-PUBLISHED-TTL:P3D
REFRESH-INTERVAL:P3D
CALSCALE:GREGORIAN
BEGIN:VEVENT
DTSTART:20110324T230000Z
DTEND:20110325T003000Z
X-MICROSOFT-CDO-ALLDAYEVENT:FALSE
SUMMARY:Presentation by Yvette Vega Biggs of Focus Consulting
DESCRIPTION:Please join us Thursday\, March 24\nfor a presentation by\n\n\n\nYvette Vega Biggs\, MBA\n\nPrincipal and Founder\n\n\n	of\nFocus Consulting\n\nSolutions Today.......Success Tomorrow\n\nA full service team with international reach that focus on Cause\, Social and Heath Marketing based on the principal of adapting commercial marketing practices to affect social change.
X-ALT-DESC;FMTTYPE=text/html:<span style="color: rgb(51\,51\,51)"><strong>&nbsp\; </strong></span>\n<p style="margin-top: 0px\; margin-bottom: 0px\; font-size: 14pt">\n	<strong>Please join us Thursday\, March 24</strong></p>\n<strong>for a presentation by<br />\n<br />\n<span style="font-size: 14pt">Yvette Vega Biggs\, MBA<br />\n<span style="font-size: 12pt">Principal and Founder</span></span></strong><br />\n<p style="margin-top: 0px\; margin-bottom: 0px\; font-size: 10pt">\n	<strong><span style="font-size: 14pt"><span style="font-size: 12pt"><span style="font-size: 14pt">of</span></span></span></strong></p>\n<strong><span style="font-size: 14pt"><span style="font-size: 12pt"><span style="font-size: 14pt">Focus Consulting<br />\n<span style="font-size: 11pt">Solutions Today.......Success Tomorrow</span><br />\n<span class="ccFontUpdated" style="font-size: 10pt">A full service team with international reach that focus on Cause\, Social and Heath Marketing based on the principal of adapting commercial marketing practices to affect social change.</span><br />\n<br />\n<span _fck_bookmark="1" style="display: none">&nbsp\;</span></span></span></span></strong>
LOCATION:El Mes n La Cocina de Espa a 213 Washington Avenue Santa Fe\, New Mexico 87501
UID:e.379.124
SEQUENCE:3
DTSTAMP:20260421T144516Z
URL:http://santafehispanicchamber.sampleorg.com/events/details/presentation-by-yvette-vega-biggs-of-focus-consulting-03-24-2011-124
END:VEVENT

END:VCALENDAR
