BEGIN:VCALENDAR
VERSION:2.0
PRODID:-//ChamberMaster//Event Calendar 2.0//EN
METHOD:PUBLISH
X-PUBLISHED-TTL:P3D
REFRESH-INTERVAL:P3D
CALSCALE:GREGORIAN
BEGIN:VEVENT
DTSTART:20090604T000000Z
DTEND:20090604T030000Z
X-MICROSOFT-CDO-ALLDAYEVENT:FALSE
SUMMARY:Professional Development Work Shop: Surviving Tough Times
DESCRIPTION:FREE Professional Development Workshop: Surviving Tough Times  Learn how to survive the tough economic times with this FREE intensive workshop covering the following topics:Enhancing real profits\, controlling costs\, increasing operational effectiveness\, and\ntoughening up customer service delivery. This workshop will be held at6:00pm-9:00pm at CESDP 705 La Joya in Espanola
X-ALT-DESC;FMTTYPE=text/html:<div align="center"><strong><font color="#000080" size="3">FREE Professional Development Workshop: Surviving Tough Times</font></strong></div><div align="center"><div style="margin: 0in 0in 10pt">&nbsp\;</div><div style="margin: 0in 0in 10pt">&nbsp\;</div><div style="margin: 0in 0in 10pt">Learn how to survive the tough economic times with this <strong>FREE</strong> intensive workshop covering the following topics:</div>Enhancing real profits\, controlling costs\, increasing operational effectiveness\, and<br />toughening up customer service delivery.</div><div align="center">&nbsp\;</div><div align="center"><div style="margin: 0in 0in 10pt">This workshop will be held at</div></div><div align="center">6:00pm-9:00pm at&nbsp\;CESDP 705 La Joya in Espanola</div>
LOCATION:CESDP706 La Joya St Espanola\, NM 87532
UID:e.379.63
SEQUENCE:3
DTSTAMP:20260423T023054Z
URL:http://santafehispanicchamber.sampleorg.com/events/details/professional-development-work-shop-surviving-tough-times-06-03-2009-63
END:VEVENT

END:VCALENDAR
